BEGIN:VCALENDAR
VERSION:2.0
PRODID:-//BCND - ECPv6.15.20//NONSGML v1.0//EN
CALSCALE:GREGORIAN
METHOD:PUBLISH
X-WR-CALNAME:BCND
X-ORIGINAL-URL:https://www.bcnd.ca
X-WR-CALDESC:Events for BCND
REFRESH-INTERVAL;VALUE=DURATION:PT1H
X-Robots-Tag:noindex
X-PUBLISHED-TTL:PT1H
BEGIN:VTIMEZONE
TZID:America/Vancouver
BEGIN:DAYLIGHT
TZOFFSETFROM:-0800
TZOFFSETTO:-0700
TZNAME:PDT
DTSTART:20250309T100000
END:DAYLIGHT
BEGIN:STANDARD
TZOFFSETFROM:-0700
TZOFFSETTO:-0800
TZNAME:PST
DTSTART:20251102T090000
END:STANDARD
BEGIN:DAYLIGHT
TZOFFSETFROM:-0800
TZOFFSETTO:-0700
TZNAME:PDT
DTSTART:20260308T100000
END:DAYLIGHT
BEGIN:STANDARD
TZOFFSETFROM:-0700
TZOFFSETTO:-0800
TZNAME:PST
DTSTART:20261101T090000
END:STANDARD
BEGIN:DAYLIGHT
TZOFFSETFROM:-0800
TZOFFSETTO:-0700
TZNAME:PDT
DTSTART:20270314T100000
END:DAYLIGHT
BEGIN:STANDARD
TZOFFSETFROM:-0700
TZOFFSETTO:-0800
TZNAME:PST
DTSTART:20271107T090000
END:STANDARD
END:VTIMEZONE
BEGIN:VEVENT
DTSTART;TZID=America/Vancouver:20260418T080000
DTEND;TZID=America/Vancouver:20260523T170000
DTSTAMP:20260419T074221
CREATED:20260419T064944Z
LAST-MODIFIED:20260419T064944Z
UID:10000853-1776499200-1779555600@www.bcnd.ca
SUMMARY:Ted Sleigh's Retirement
DESCRIPTION:Dear colleagues\, come celebrate Dr. Ted Sleigh’s retirement and 30 years of partnership with Dr. Carlson-Rink \nSaturday June 6th\, 2026\nCome and go from 1–5 PM\nAppetizers and beverages will be served \nFort Langley Lions Seniors Hall\n23022 88 Ave\, Langley Twp\, BC V1M 2R8 \nPlease RSVP by May 23rd to\nted.retirement.party6@gmail.com
URL:https://www.bcnd.ca/event/ted-sleighs-retirement-2/
ATTACH;FMTTYPE=image/jpeg:https://www.bcnd.ca/wp2/wp-content/uploads/2026/04/TedSleighRetirement.jpg
END:VEVENT
END:VCALENDAR