BEGIN:VCALENDAR
VERSION:2.0
PRODID:-//BCND - ECPv6.15.20//NONSGML v1.0//EN
CALSCALE:GREGORIAN
METHOD:PUBLISH
X-ORIGINAL-URL:https://www.bcnd.ca
X-WR-CALDESC:Events for BCND
REFRESH-INTERVAL;VALUE=DURATION:PT1H
X-Robots-Tag:noindex
X-PUBLISHED-TTL:PT1H
BEGIN:VTIMEZONE
TZID:America/Vancouver
BEGIN:DAYLIGHT
TZOFFSETFROM:-0800
TZOFFSETTO:-0700
TZNAME:PDT
DTSTART:20230312T100000
END:DAYLIGHT
BEGIN:STANDARD
TZOFFSETFROM:-0700
TZOFFSETTO:-0800
TZNAME:PST
DTSTART:20231105T090000
END:STANDARD
BEGIN:DAYLIGHT
TZOFFSETFROM:-0800
TZOFFSETTO:-0700
TZNAME:PDT
DTSTART:20240310T100000
END:DAYLIGHT
BEGIN:STANDARD
TZOFFSETFROM:-0700
TZOFFSETTO:-0800
TZNAME:PST
DTSTART:20241103T090000
END:STANDARD
BEGIN:DAYLIGHT
TZOFFSETFROM:-0800
TZOFFSETTO:-0700
TZNAME:PDT
DTSTART:20250309T100000
END:DAYLIGHT
BEGIN:STANDARD
TZOFFSETFROM:-0700
TZOFFSETTO:-0800
TZNAME:PST
DTSTART:20251102T090000
END:STANDARD
BEGIN:DAYLIGHT
TZOFFSETFROM:-0800
TZOFFSETTO:-0700
TZNAME:PDT
DTSTART:20260308T100000
END:DAYLIGHT
BEGIN:STANDARD
TZOFFSETFROM:-0700
TZOFFSETTO:-0800
TZNAME:PST
DTSTART:20261101T090000
END:STANDARD
END:VTIMEZONE
BEGIN:VEVENT
DTSTART;TZID=America/Vancouver:20240511T080000
DTEND;TZID=America/Vancouver:20250511T170000
DTSTAMP:20260421T015203
CREATED:20240510T070000Z
LAST-MODIFIED:20240510T070000Z
UID:10000588-1715414400-1746982800@www.bcnd.ca
SUMMARY:SHINE Health Project
DESCRIPTION:The SHINE Health Project is a free on-line resource for upbeat\, practical and reliable health information. Written and curated by two naturopathic doctors with decades of experience\, the SHINE Health Project is designed to help everyone\, everywhere make daily changes that create better health. \nCheck out our: \n\nfree weekly articles\nnutritious and delicious recipes\nlots of other useful resources on wide-ranging health topics\n\nFor an inspiring bright spot in your inbox\, sign up for SHINE Weekly\, or go to www.shinehealthproject.com 
URL:https://www.bcnd.ca/event/shine-health-project/
ATTACH;FMTTYPE=image/jpeg:https://www.bcnd.ca/wp2/wp-content/uploads/2025/03/shinehealth-logo-full-color-rgb.jpg
END:VEVENT
BEGIN:VEVENT
DTSTART;TZID=America/Vancouver:20240905T090000
DTEND;TZID=America/Vancouver:20240906T170000
DTSTAMP:20260421T015203
CREATED:20240424T070000Z
LAST-MODIFIED:20240424T070000Z
UID:10000584-1725526800-1725642000@www.bcnd.ca
SUMMARY:4th World Congress on Surgery\, Surgeons & Anesthesia
DESCRIPTION:We are glad to welcome you at our new destination in London\, UK on September 05-06\, 2024 for our upcoming Event on 4th World Congress on Surgery\, Surgeons & Anesthesia organized by Surgeons Congress 2024. \nFor More Details: https://surgeon.euroscicon.com/ \nThe WCSSA 2024 has turned in to a premier forum to network\, learn and connect with experts\, academicians\, researchers\, specialists and activists in generating a platform to discuss and spread meaningful messages\, values and practices in the subject of Surgery.
URL:https://www.bcnd.ca/event/4th-world-congress-on-surgery-surgeons-anesthesia/
LOCATION:Hyatt Place London Heathrow Airport
ATTACH;FMTTYPE=image/jpeg:https://www.bcnd.ca/wp2/wp-content/uploads/2025/03/Pragya-Upadhyay-bnr-5.jpg
END:VEVENT
BEGIN:VEVENT
DTSTART;VALUE=DATE:20240916
DTEND;VALUE=DATE:20240917
DTSTAMP:20260421T015203
CREATED:20240220T080000Z
LAST-MODIFIED:20240220T080000Z
UID:10000564-1726444800-1726531199@www.bcnd.ca
SUMMARY:2nd World Conference on Paediatrics\, Neonatology and Infectious diseases
DESCRIPTION:We’re delighted to welcome you to the vibrant city of Paris\, France\, on September 16-17\, 2024\, for our conference themed “Advancing Pediatrics: Innovations in Treatment and Research for a Healthier Future.” This event promises engaging discussions\, insightful knowledge exchange\, and the latest research findings in Pediatrics\, Neonatology\, and Infectious Diseases.
URL:https://www.bcnd.ca/event/2nd-world-conference-on-paediatrics-neonatology-and-infectious-diseases/
LOCATION:Paris\, France\, Paris\, France\, Paris\, 70123\, India
ATTACH;FMTTYPE=image/png:https://www.bcnd.ca/wp2/wp-content/uploads/2025/03/Black_Minimal_Elegant_Circular_Fashion_Logo-removebg-preview-1.png
END:VEVENT
BEGIN:VEVENT
DTSTART;VALUE=DATE:20240916
DTEND;VALUE=DATE:20240918
DTSTAMP:20260421T015203
CREATED:20240320T070000Z
LAST-MODIFIED:20240320T070000Z
UID:10000570-1726444800-1726617599@www.bcnd.ca
SUMMARY:2nd World Conference on Pediatrics\, Neonatology\, and Infectious Diseases
DESCRIPTION:Experience the pinnacle of pediatric healthcare at the 2nd World Conference on Pediatrics\, Neonatology\, and Infectious Diseases\, taking place in Paris\, France\, on September 16–17\, 2024. This gathering isn’t merely an assembly; it’s a nucleus of ideas\, breakthroughs\, and remedies propelling pediatric healthcare worldwide. Here’s why you can’t afford to miss it: \nParis: The Quintessential Locale: Dubbed the “City of Light” and an emblem of culture\, Paris sets an enchanting stage for education and networking. Its storied avenues\, iconic landmarks\, and cozy bistros cultivate an environment that sparks intellectual discourse and collaboration. \nIdeal Timing: With September’s mild climate and minimal rainfall\, Paris offers the perfect backdrop for attendees to explore the city and engage in informal dialogues\, enriching their overall experience. \nDiverse Attendees and Topics: Anticipate encounters with pediatricians\, neonatologists\, infectious disease specialists\, researchers\, educators\, and policymakers worldwide. Spanning various topics such as pediatric care advancements\, neonatal health interventions\, and infectious disease management strategies\, attendees will delve into the latest trends and optimal practices. \nEsteemed Speakers and Engaging Sessions: Esteemed speakers will impart their knowledge\, unveiling groundbreaking research and inspiring attendees to push the boundaries of pediatric healthcare innovation. Interactive sessions\, encompassing plenaries\, panel discussions\, workshops\, and poster presentations\, offer abundant opportunities for knowledge exchange and collaboration. \nNetworking and Cultural Immersion: Beyond formal proceedings\, attendees can connect with peers\, foster new partnerships\, and immerse themselves in Paris’s vibrant culture. From networking soirées to cultural escapades\, these interactions cultivate enduring professional bonds and enrich the Pediatrics conference experience. \nParis’s Medical Eminence: Paris\, a global epicenter of education\, research\, and healthcare\, boasts esteemed medical institutions and research centers at the forefront of pediatric healthcare innovation. Attendees can explore these institutions\, engage with local luminaries\, and glean unique insights into Paris’s contributions to the field. \nIn essence\, the 2nd World Conference on Pediatrics\, Neonatology\, and Infectious Diseases in Paris pledges to be a watershed moment\, propelling collaboration\, innovation\, and progress in pediatric healthcare. Seize this opportunity to shape the future of child health. Join us in Paris! #PediatricsConference2024 #Paris #GlobalHealthcare
URL:https://www.bcnd.ca/event/2nd-world-conference-on-pediatrics-neonatology-and-infectious-diseases/
LOCATION:72000
ATTACH;FMTTYPE=image/png:https://www.bcnd.ca/wp2/wp-content/uploads/2025/03/PEDIATRICS-CONFERENCE.png
END:VEVENT
BEGIN:VEVENT
DTSTART;VALUE=DATE:20240918
DTEND;VALUE=DATE:20240920
DTSTAMP:20260421T015203
CREATED:20240513T070000Z
LAST-MODIFIED:20240513T070000Z
UID:10000590-1726617600-1726790399@www.bcnd.ca
SUMMARY:2nd International Conference on Alternative Medicine and Integrative Health AMIH 2024 Dubai UAE
DESCRIPTION:It is a great pleasure to invite you to participate at 2ndInternational Conference on Alternative Medicine and Integrative Health (AMIH 2024) from September 18-19\, 2024| at Dubai\, UAE. \n  \nOfficial Website: https://alternativemedicineconference.com/ \nLooking forward to hearing from you soon. \n 
URL:https://www.bcnd.ca/event/2nd-international-conference-on-alternative-medicine-and-integrative-health-amih-2024-dubai-uae/
LOCATION:Dubai UAE
END:VEVENT
BEGIN:VEVENT
DTSTART;VALUE=DATE:20240918
DTEND;VALUE=DATE:20240920
DTSTAMP:20260421T015203
CREATED:20240514T070000Z
LAST-MODIFIED:20240514T070000Z
UID:10000591-1726617600-1726790399@www.bcnd.ca
SUMMARY:2nd International Conference on Alternative Medicine and Integrative Health AMIH 2024 Dubai UAE
DESCRIPTION:It is a great pleasure to invite you to participate at 2ndInternational Conference on Alternative Medicine and Integrative Health (AMIH 2024) from September 18-19\, 2024| at Dubai\, UAE. \n  \nOfficial Website: https://alternativemedicineconference.com/ \nLooking forward to hearing from you soon. \n 
URL:https://www.bcnd.ca/event/2nd-international-conference-on-alternative-medicine-and-integrative-health-amih-2024-dubai-uae-5/
LOCATION:crowne plaza dubai
ATTACH;FMTTYPE=image/jpeg:https://www.bcnd.ca/wp2/wp-content/uploads/2025/03/amih2024-logo.jpg
END:VEVENT
BEGIN:VEVENT
DTSTART;VALUE=DATE:20240918
DTEND;VALUE=DATE:20240921
DTSTAMP:20260421T015203
CREATED:20240528T070000Z
LAST-MODIFIED:20240528T070000Z
UID:10000592-1726700400-1726873199@www.bcnd.ca
SUMMARY:Thursday and Friday Sept 19-20\, 2024 IV Basics Training full 2 day course NaturoMedic.org
DESCRIPTION:Thursday and Friday Sept 19-20\, 2024 IV Basics Training full 2 day course \nNaturoMedic.org
URL:https://www.bcnd.ca/event/thursday-and-friday-sept-19-20-2024-iv-basics-training-full-2-day-course-naturomedic-org/
ATTACH;FMTTYPE=image/gif:https://www.bcnd.ca/wp2/wp-content/uploads/2025/03/NaturoMedic.org-Course-Jamboree.gif
END:VEVENT
BEGIN:VEVENT
DTSTART;VALUE=DATE:20240921
DTEND;VALUE=DATE:20240923
DTSTAMP:20260421T015203
CREATED:20240528T070000Z
LAST-MODIFIED:20240528T070000Z
UID:10000593-1726876800-1727049599@www.bcnd.ca
SUMMARY:Sept 21-22  Emergency Procedures 2 day Course by NaturoMedic.org
DESCRIPTION:Emergency Procedures 2 day Course by NaturoMedic.org
URL:https://www.bcnd.ca/event/sept-21-22-emergency-procedures-2-day-course-by-naturomedic-org/
ATTACH;FMTTYPE=image/gif:https://www.bcnd.ca/wp2/wp-content/uploads/2025/03/NaturoMedic.org-Course-Jamboree-1.gif
END:VEVENT
BEGIN:VEVENT
DTSTART;TZID=America/Vancouver:20240923T080000
DTEND;TZID=America/Vancouver:20240923T120000
DTSTAMP:20260421T015203
CREATED:20240528T070000Z
LAST-MODIFIED:20240528T070000Z
UID:10000594-1727078400-1727092800@www.bcnd.ca
SUMMARY:Sept 23 8AM-12noon 4 hours CE Competency Prolotherapy\, Dr  Hoffman by NaturoMedic.org
DESCRIPTION:Sept 23 8AM-12noon 4 hours CE Competency Prolotherapy\, Dr Hoffman by NaturoMedic.org
URL:https://www.bcnd.ca/event/sept-23-8am-12noon-4-hours-ce-competency-prolotherapy-dr-hoffman-by-naturomedic-org/
ATTACH;FMTTYPE=image/gif:https://www.bcnd.ca/wp2/wp-content/uploads/2025/03/NaturoMedic.org-Course-Jamboree-2.gif
END:VEVENT
BEGIN:VEVENT
DTSTART;TZID=America/Vancouver:20240923T130000
DTEND;TZID=America/Vancouver:20240923T170000
DTSTAMP:20260421T015203
CREATED:20240528T070000Z
LAST-MODIFIED:20240528T070000Z
UID:10000595-1727096400-1727110800@www.bcnd.ca
SUMMARY:IV Therapy referesher CE
DESCRIPTION:September 23\, 2024 1PM -5PM\, IV Therapy referesher CE Competency credit course 4 hours $250 + GST Instructor Dr Mike Nowazek ND
URL:https://www.bcnd.ca/event/iv-therapy-referesher-ce/
ATTACH;FMTTYPE=image/gif:https://www.bcnd.ca/wp2/wp-content/uploads/2025/03/NaturoMedic.org-Course-Jamboree-3.gif
END:VEVENT
BEGIN:VEVENT
DTSTART;TZID=America/Vancouver:20240924T080000
DTEND;TZID=America/Vancouver:20240924T120000
DTSTAMP:20260421T015203
CREATED:20240528T070000Z
LAST-MODIFIED:20240528T070000Z
UID:10000596-1727164800-1727179200@www.bcnd.ca
SUMMARY:Naturopathic Injection refresher CE
DESCRIPTION:September 24\, 2024 8AM-12 noon Naturopathic Injection refresher CE Competency credit course 4 hours $250 + GST plus $50 for supplies Instructor Dr Hoffman ND
URL:https://www.bcnd.ca/event/naturopathic-injection-refresher-ce/
ATTACH;FMTTYPE=image/gif:https://www.bcnd.ca/wp2/wp-content/uploads/2025/03/NaturoMedic.org-Course-Jamboree-4.gif
END:VEVENT
BEGIN:VEVENT
DTSTART;TZID=America/Vancouver:20240924T130000
DTEND;TZID=America/Vancouver:20240924T170000
DTSTAMP:20260421T015203
CREATED:20240528T070000Z
LAST-MODIFIED:20240528T070000Z
UID:10000597-1727182800-1727197200@www.bcnd.ca
SUMMARY:Chelation CE Competency 4 hours
DESCRIPTION:September 24\, 2024 1-5pm Chelation CE Competency credit course 4 hours $250 + GST Dr Prytula ND
URL:https://www.bcnd.ca/event/chelation-ce-competency-4-hours/
ATTACH;FMTTYPE=image/gif:https://www.bcnd.ca/wp2/wp-content/uploads/2025/03/NaturoMedic.org-Course-Jamboree-5.gif
END:VEVENT
BEGIN:VEVENT
DTSTART;TZID=America/Vancouver:20240925T080000
DTEND;TZID=America/Vancouver:20240925T120000
DTSTAMP:20260421T015203
CREATED:20240528T070000Z
LAST-MODIFIED:20240528T070000Z
UID:10000598-1727251200-1727265600@www.bcnd.ca
SUMMARY:Ozone (oxidative medicine) refresher CE 4 hours
DESCRIPTION:September 25\, 2024 8-12 noon.  Ozone (oxidative medicine) refresher CE Competency credit course 4 hours  $250 =GST
URL:https://www.bcnd.ca/event/ozone-oxidative-medicine-refresher-ce-4-hours/
ATTACH;FMTTYPE=image/gif:https://www.bcnd.ca/wp2/wp-content/uploads/2025/03/NaturoMedic.org-Course-Jamboree-6.gif
END:VEVENT
BEGIN:VEVENT
DTSTART;VALUE=DATE:20240926
DTEND;VALUE=DATE:20240928
DTSTAMP:20260421T015203
CREATED:20240528T070000Z
LAST-MODIFIED:20240528T070000Z
UID:10000599-1727308800-1727481599@www.bcnd.ca
SUMMARY:IV Ozone (oxidative medicine) Full Certification Course
DESCRIPTION:September 26-27\, 2024- IV Ozone (oxidative medicine) Full Certification Course $900 + GST. plus $50 Equipment = GST
URL:https://www.bcnd.ca/event/iv-ozone-oxidative-medicine-full-certification-course/
ATTACH;FMTTYPE=image/gif:https://www.bcnd.ca/wp2/wp-content/uploads/2025/03/NaturoMedic.org-Course-Jamboree-7.gif
END:VEVENT
BEGIN:VEVENT
DTSTART;VALUE=DATE:20240928
DTEND;VALUE=DATE:20240930
DTSTAMP:20260421T015203
CREATED:20240528T070000Z
LAST-MODIFIED:20240528T070000Z
UID:10000600-1727481600-1727654399@www.bcnd.ca
SUMMARY:IV Chelation Full Certification Course
DESCRIPTION:September 28-29\, 2024- IV Chelation Full Certification Course $900 + GST.
URL:https://www.bcnd.ca/event/iv-chelation-full-certification-course/
ATTACH;FMTTYPE=image/gif:https://www.bcnd.ca/wp2/wp-content/uploads/2025/03/NaturoMedic.org-Course-Jamboree-8.gif
END:VEVENT
BEGIN:VEVENT
DTSTART;TZID=America/Vancouver:20240928T090000
DTEND;TZID=America/Vancouver:20240929T170000
DTSTAMP:20260421T015203
CREATED:20231102T070000Z
LAST-MODIFIED:20231102T070000Z
UID:10000530-1727514000-1727629200@www.bcnd.ca
SUMMARY:Injectable HA Filler Foundations  Sept 28 @ 9:00 am – Sept 29 @ 5:00 pm PST  $4\,995
DESCRIPTION:Explore the art of facial rejuvenation through this hands-on cosmetic injectable course and learn the latest techniques using injectable HA fillers. This introductory 2-day course covers topics including facial anatomy\, topical anesthesia\, consultation process\, clinical applications\, complication protocols\, and brand information. \nPlease note The College of Naturopathic Physicians of British Columbia (the “College”) has determined that the certification course “Injectable HA Filler Foundations”\, offered by the International Institute of Aesthetic Medicine\, meets the requirements for a provisional “level 1 injectable filler” certification course. \nAbout Us \nThe International Institute of Aesthetic Medicine is a training organization dedicated to providing comprehensive\, hands-on education. Our faculty believes in setting and delivering the gold standard\, allowing medical professionals the opportunity to expand their expertise in aesthetics.
URL:https://www.bcnd.ca/event/injectable-ha-filler-foundations-sept-28-900-am-sept-29-500-pm-pst-4995/
LOCATION:Pacific Derm
END:VEVENT
BEGIN:VEVENT
DTSTART;TZID=America/Vancouver:20240928T110000
DTEND;TZID=America/Vancouver:20240929T170000
DTSTAMP:20260421T015203
CREATED:20240821T070000Z
LAST-MODIFIED:20240821T070000Z
UID:10000614-1727521200-1727629200@www.bcnd.ca
SUMMARY:2-Day Neurovascular Connections conference – MS\, Long COVID\, ME/CFS
DESCRIPTION:Diseases and conditions like multiple sclerosis\, Long COVID\, ME/CFS and brain injury often have underlying neurovascular similarities. This two day education conference brings together patients\, health practitioners\, government representatives\, employers and others to learn directly from researchers about emerging research and disease management practises. Our interactive conference format provides plenty of networking and Q&A opportunities so you leave better informed\, connected and supported. \nSession topics include: \n\nDiet and Lifestyle to improve neurovascular health\nChronic Stress and Long COVID\nMindfulness\nNerve Regeneration\nChronic Pain and Neuroplasticity\nSexual Intimacy and Rehabilitation with a Chronic Illness\nNeuroinflammation in Long COVID\nEpstein Barr in MS\nSARS-Cov2 virus — what have we learned?\n\n  \nA letter certifying attendance can be provided on request to professionals seeking professional development credits.
URL:https://www.bcnd.ca/event/2-day-neurovascular-connections-conference-ms-long-covid-me-cfs/
LOCATION:Coast Tsawwassen Inn
ATTACH;FMTTYPE=image/png:https://www.bcnd.ca/wp2/wp-content/uploads/2025/03/Picture1.png
END:VEVENT
BEGIN:VEVENT
DTSTART;VALUE=DATE:20240930
DTEND;VALUE=DATE:20241002
DTSTAMP:20260421T015203
CREATED:20240506T070000Z
LAST-MODIFIED:20240506T070000Z
UID:10000587-1727654400-1727827199@www.bcnd.ca
SUMMARY:World Orthopedics Conference
DESCRIPTION:Lambda Research Group invites all participants by presenting the latest Scientific Improvement and technologies in the field of Orthopedics. WOC 2024 welcomes all the eminent researchers and scholars around the globe to be part of the most awaited event of “World Orthopedics Conference” held on July 15-16\, 2024 at London\, UK. Our congress promises to be an exciting event\, bringing together leading experts in the field of orthopedics from around the world. With a diverse range of topics and presentations\, attendees can expect to gain valuable insights into the latest research and developments in this dynamic field.
URL:https://www.bcnd.ca/event/world-orthopedics-conference/
LOCATION:London\, UK
ATTACH;FMTTYPE=image/png:https://www.bcnd.ca/wp2/wp-content/uploads/2025/03/WOC-2024-Invitation-Header_Lambda-Research-Group.png
END:VEVENT
BEGIN:VEVENT
DTSTART;TZID=America/Vancouver:20240930T090000
DTEND;TZID=America/Vancouver:20241001T170000
DTSTAMP:20260421T015203
CREATED:20240402T070000Z
LAST-MODIFIED:20240402T070000Z
UID:10000574-1727686800-1727802000@www.bcnd.ca
SUMMARY:International Conference On Physiotherapy\, Physical Rehabilitation & Sports Medicine
DESCRIPTION:We are happy to announce the upcoming Lambda Research Group’s International Conference On Physiotherapy\, Physical Rehabilitation & Sports Medicine from 30 Sep 2024 – 01 Oct 2024 in London\, UK. \nFor more about our event\, visit: https://lambdaconferences.com/physiotherapy/
URL:https://www.bcnd.ca/event/international-conference-on-physiotherapy-physical-rehabilitation-sports-medicine/
ATTACH;FMTTYPE=image/png:https://www.bcnd.ca/wp2/wp-content/uploads/2025/03/Lambda-Research-Group_01-01.png
END:VEVENT
END:VCALENDAR