BEGIN:VCALENDAR
VERSION:2.0
PRODID:-//BCND - ECPv6.15.20//NONSGML v1.0//EN
CALSCALE:GREGORIAN
METHOD:PUBLISH
X-WR-CALNAME:BCND
X-ORIGINAL-URL:https://www.bcnd.ca
X-WR-CALDESC:Events for BCND
REFRESH-INTERVAL;VALUE=DURATION:PT1H
X-Robots-Tag:noindex
X-PUBLISHED-TTL:PT1H
BEGIN:VTIMEZONE
TZID:America/Vancouver
BEGIN:DAYLIGHT
TZOFFSETFROM:-0800
TZOFFSETTO:-0700
TZNAME:PDT
DTSTART:20240310T100000
END:DAYLIGHT
BEGIN:STANDARD
TZOFFSETFROM:-0700
TZOFFSETTO:-0800
TZNAME:PST
DTSTART:20241103T090000
END:STANDARD
BEGIN:DAYLIGHT
TZOFFSETFROM:-0800
TZOFFSETTO:-0700
TZNAME:PDT
DTSTART:20250309T100000
END:DAYLIGHT
BEGIN:STANDARD
TZOFFSETFROM:-0700
TZOFFSETTO:-0800
TZNAME:PST
DTSTART:20251102T090000
END:STANDARD
BEGIN:DAYLIGHT
TZOFFSETFROM:-0800
TZOFFSETTO:-0700
TZNAME:PDT
DTSTART:20260308T100000
END:DAYLIGHT
BEGIN:STANDARD
TZOFFSETFROM:-0700
TZOFFSETTO:-0800
TZNAME:PST
DTSTART:20261101T090000
END:STANDARD
END:VTIMEZONE
BEGIN:VEVENT
DTSTART;TZID=America/Vancouver:20250714T090000
DTEND;TZID=America/Vancouver:20250715T163000
DTSTAMP:20260423T033800
CREATED:20241121T080000Z
LAST-MODIFIED:20241121T080000Z
UID:10000636-1752483600-1752597000@www.bcnd.ca
SUMMARY:3rd World Conference on Pediatrics\, Neonatology\, and Infectious Diseases
DESCRIPTION:With great pleasure and anticipation\, we extend our heartfelt invitation to the 3rd World Conference on Pediatrics\, Neonatology\, and Infectious Diseases\, which will be held in the dynamic city of London\, UK\, on July 14 – 15\, 2025. Leading authorities\, researchers\, and medical professionals from around the world will come together for this esteemed event\, which promises to be an extraordinary gathering of brilliant minds and dedicated professionals to exchange the most recent developments and cutting-edge techniques in the domains of pediatrics\, infectious diseases\, and child health. \nThe PediaConf 2025\, which has as its main focus “Innovations in Child Health and Paediatric Drug Development“\, will provide a premier forum for the exchange of state-of-the-art findings\, the investigation of new trends\, and the debate of innovative therapeutic approaches for paediatric care. A stellar lineup of keynote speakers\, panel discussions\, and interactive sessions will be included at the event. \nPediaConf 2025 will cover important subjects like vaccine development\, neonatal care\, pediatric infectious diseases\, and the difficulties presented by uncommon children ailments and many more. \nThe conference will feature a wide range of networking opportunities in addition to scientific lectures\, giving attendees a special opportunity to connect with international leaders in the fields of pediatrics\, drug development\, and associated healthcare businesses. In addition\, attendees will gain access to interactive workshops\, cutting-edge product demonstrations\, and expert-led sessions that promote networking and professional growth. \nThis conference promises to be an essential experience for anyone in the medical field\, whether you are an experienced practitioner\, a researcher at the forefront of medical innovation\, a student eager to learn from experts\, or a pharmaceutical professional involved in paediatric drug development. Public health policymakers and clinical trial specialists will also find valuable insights into the evolving landscape of child healthcare and treatment development. \nJoin us in London for two days of enlightening discussion\, knowledge-sharing\, and the advancement of child healthcare
URL:https://www.bcnd.ca/event/3rd-world-conference-on-pediatrics-neonatology-and-infectious-diseases-5/
LOCATION:London\, UK
ATTACH;FMTTYPE=image/png:https://www.bcnd.ca/wp2/wp-content/uploads/2025/03/Green-White-Orange-Modern-Geometric-Online-Training-Banner-2-min-min_11zon.png
END:VEVENT
END:VCALENDAR