BEGIN:VCALENDAR
VERSION:2.0
PRODID:-//BCND - ECPv6.15.20//NONSGML v1.0//EN
CALSCALE:GREGORIAN
METHOD:PUBLISH
X-ORIGINAL-URL:https://www.bcnd.ca
X-WR-CALDESC:Events for BCND
REFRESH-INTERVAL;VALUE=DURATION:PT1H
X-Robots-Tag:noindex
X-PUBLISHED-TTL:PT1H
BEGIN:VTIMEZONE
TZID:America/Vancouver
BEGIN:DAYLIGHT
TZOFFSETFROM:-0800
TZOFFSETTO:-0700
TZNAME:PDT
DTSTART:20230312T100000
END:DAYLIGHT
BEGIN:STANDARD
TZOFFSETFROM:-0700
TZOFFSETTO:-0800
TZNAME:PST
DTSTART:20231105T090000
END:STANDARD
BEGIN:DAYLIGHT
TZOFFSETFROM:-0800
TZOFFSETTO:-0700
TZNAME:PDT
DTSTART:20240310T100000
END:DAYLIGHT
BEGIN:STANDARD
TZOFFSETFROM:-0700
TZOFFSETTO:-0800
TZNAME:PST
DTSTART:20241103T090000
END:STANDARD
BEGIN:DAYLIGHT
TZOFFSETFROM:-0800
TZOFFSETTO:-0700
TZNAME:PDT
DTSTART:20250309T100000
END:DAYLIGHT
BEGIN:STANDARD
TZOFFSETFROM:-0700
TZOFFSETTO:-0800
TZNAME:PST
DTSTART:20251102T090000
END:STANDARD
END:VTIMEZONE
BEGIN:VEVENT
DTSTART;TZID=America/Vancouver:20241215T090000
DTEND;TZID=America/Vancouver:20241215T170000
DTSTAMP:20260423T015439
CREATED:20241008T070000Z
LAST-MODIFIED:20241008T070000Z
UID:10000620-1734253200-1734282000@www.bcnd.ca
SUMMARY:NALS w/ BLS Recert - VICTORIA
DESCRIPTION:We offer NALS w/ BLS Recert for your convenience as a valid BLS is a pre-req of the NALS course. BLS Recert is a 2 hour course on the morning of your NALS course. If you have a valid BLS and not in need of an update you are able to register for NALS only course. \n  \nTo register go to our website at ohmmedical.com
URL:https://www.bcnd.ca/event/nals-w-bls-recert-victoria/
LOCATION:TBD
ATTACH;FMTTYPE=image/jpeg:https://www.bcnd.ca/wp2/wp-content/uploads/2025/03/OHM-Logo-1-2.jpg
END:VEVENT
END:VCALENDAR