BEGIN:VCALENDAR
VERSION:2.0
PRODID:-//BCND - ECPv6.15.20//NONSGML v1.0//EN
CALSCALE:GREGORIAN
METHOD:PUBLISH
X-WR-CALNAME:BCND
X-ORIGINAL-URL:https://www.bcnd.ca
X-WR-CALDESC:Events for BCND
REFRESH-INTERVAL;VALUE=DURATION:PT1H
X-Robots-Tag:noindex
X-PUBLISHED-TTL:PT1H
BEGIN:VTIMEZONE
TZID:America/Vancouver
BEGIN:DAYLIGHT
TZOFFSETFROM:-0800
TZOFFSETTO:-0700
TZNAME:PDT
DTSTART:20220313T100000
END:DAYLIGHT
BEGIN:STANDARD
TZOFFSETFROM:-0700
TZOFFSETTO:-0800
TZNAME:PST
DTSTART:20221106T090000
END:STANDARD
BEGIN:DAYLIGHT
TZOFFSETFROM:-0800
TZOFFSETTO:-0700
TZNAME:PDT
DTSTART:20230312T100000
END:DAYLIGHT
BEGIN:STANDARD
TZOFFSETFROM:-0700
TZOFFSETTO:-0800
TZNAME:PST
DTSTART:20231105T090000
END:STANDARD
BEGIN:DAYLIGHT
TZOFFSETFROM:-0800
TZOFFSETTO:-0700
TZNAME:PDT
DTSTART:20240310T100000
END:DAYLIGHT
BEGIN:STANDARD
TZOFFSETFROM:-0700
TZOFFSETTO:-0800
TZNAME:PST
DTSTART:20241103T090000
END:STANDARD
END:VTIMEZONE
BEGIN:VEVENT
DTSTART;TZID=America/Vancouver:20231002T183000
DTEND;TZID=America/Vancouver:20231002T210000
DTSTAMP:20260423T032045
CREATED:20230911T070000Z
LAST-MODIFIED:20230911T070000Z
UID:10000521-1696271400-1696280400@www.bcnd.ca
SUMMARY:Viscum Album: Immune-related controversies and clinical scenarios
DESCRIPTION:Mistletoe (Viscum album) is an important part of many naturopathic practices. Its immunomodulatory and quality of life benefits have been well researched in cancer care and beyond. \nFresh from her engaging presentation at a prestigious integrative oncology conference in South America\, Dr. Jessica Moore ND will share her vast expertise in the use of mistletoe therapy. She will provide practical clinical pearls for managing real-life treatment scenarios\, ranging from effectively dealing with side effects and patient expectations to optimizing treatment protocols. If you are currently using mistletoe\, or have an interest in learning how this treatment can benefit your patients\, this is the perfect opportunity for you! And you will also enjoy a nice\, privately-catered meal with your local colleagues\, on us. \nPresentation Outline: \n1. Advantages and challenges of using mistletoe therapy\n2. Effectively dealing with patient expectations\n3. Using mistletoe in challenging patient groups (immunotherapy\, autoimmune disease)\n4. Optimizing treatment protocols\n5. Clinical pearls and cases \nCost: Free! But pre-registration is required.  \nClick here to register. \nSeminar sponsored by Helixor Canada. \nSpeaker Information:  \nDr. Jessica Moore is a licensed naturopathic doctor who practices in Vancouver\, BC. She is recognized as a Fellow to the American Board of Naturopathic Oncology (FABNO) in the USA. She has a clinical focus on cancer care and has practiced in Canada and internationally in both hospital and outpatient settings\, and has served as adjunct faculty at Boucher and Sonoron University (previously SCNM). Dr. Moore is an avid speaker and a published author of several peer reviewed articles. For more information about her and her practice visit drjessicamoore.com.
URL:https://www.bcnd.ca/event/viscum-album-immune-related-controversies-and-clinical-scenarios/
END:VEVENT
END:VCALENDAR