BEGIN:VCALENDAR
VERSION:2.0
PRODID:-//BCND - ECPv6.15.20//NONSGML v1.0//EN
CALSCALE:GREGORIAN
METHOD:PUBLISH
X-ORIGINAL-URL:https://www.bcnd.ca
X-WR-CALDESC:Events for BCND
REFRESH-INTERVAL;VALUE=DURATION:PT1H
X-Robots-Tag:noindex
X-PUBLISHED-TTL:PT1H
BEGIN:VTIMEZONE
TZID:America/Vancouver
BEGIN:DAYLIGHT
TZOFFSETFROM:-0800
TZOFFSETTO:-0700
TZNAME:PDT
DTSTART:20250309T100000
END:DAYLIGHT
BEGIN:STANDARD
TZOFFSETFROM:-0700
TZOFFSETTO:-0800
TZNAME:PST
DTSTART:20251102T090000
END:STANDARD
BEGIN:DAYLIGHT
TZOFFSETFROM:-0800
TZOFFSETTO:-0700
TZNAME:PDT
DTSTART:20260308T100000
END:DAYLIGHT
BEGIN:STANDARD
TZOFFSETFROM:-0700
TZOFFSETTO:-0800
TZNAME:PST
DTSTART:20261101T090000
END:STANDARD
BEGIN:DAYLIGHT
TZOFFSETFROM:-0800
TZOFFSETTO:-0700
TZNAME:PDT
DTSTART:20270314T100000
END:DAYLIGHT
BEGIN:STANDARD
TZOFFSETFROM:-0700
TZOFFSETTO:-0800
TZNAME:PST
DTSTART:20271107T090000
END:STANDARD
END:VTIMEZONE
BEGIN:VEVENT
DTSTART;VALUE=DATE:20260706
DTEND;VALUE=DATE:20260708
DTSTAMP:20260421T033729
CREATED:20251117T180732Z
LAST-MODIFIED:20251117T180732Z
UID:10000737-1783296000-1783468799@www.bcnd.ca
SUMMARY:International Conference on Otolaryngology and ENT Disorders
DESCRIPTION:International Conference on Otolaryngology and ENT Disorders\nJuly 06-07\, 2026 | Singapore City\, Singapore\nTheme: Exploring New Horizons in Otolaryngology and Head-Neck Surgery\nNoveltics Group welcoming all to the  International Conference on Otolaryngology and ENT Disorders  which is going to be held during July 06-07\, 2026 at Singapore City\, Singapore\, the premier global forum dedicated a distinguished global forum committed to the advancement of scientific knowledge\, interdisciplinary collaboration\, and clinical innovation within the field of otolaryngology and ENT surgery.. Together\, we will explore the most recent advancements\, address pressing clinical challenges\, and envision the future of ENT medicine through a lens of evidence-based practice and translational research. In an era where staying at the forefront of medical knowledge is more critical than ever\, this conference provides a unique opportunity to engage with the evolving landscape of ENT care—where clinical excellence\, scientific discovery\, and technological innovation converge.This prestigious ENT Conference convenes leading experts in otolaryngology\, including clinicians\, researchers\, surgeons\, audiologists\, and speech-language pathologists\, as well as key stakeholders in healthcare\, academia\, and industry. The two-day agenda has been thoughtfully designed to inspire\, educate\, and connect attendees through:\nPlenary Sessions: Engage with global thought leaders as they discuss visionary approaches to Otolaryngology and ENT Disorders\nKeynote Speeches: Learn from internationally acclaimed experts about the latest trends\, challenges\, and opportunities in Otolaryngology.\nTechnical Workshops: Participate in interactive\, hands-on workshops to gain practical insights into cutting-edge technologies and methodologies.\nResearch Presentations: Explore innovative research findings and case studies presented by leading academics and practitioners.\nPanel Discussions: Join engaging discussions on pressing topics\, including:\n•	Speech & Swallowing Disorders\n•	AI & Machine Learning in ENT\n•	Vestibular Schwannoma Management and many more.\nNetworking Opportunities: Connect with professionals\, exchange ideas\, and form collaborations that will drive the ENT sector forward.\nScientific Sessions:\nVestibular Disorders: Diagnosis & Therapy |Allergic Rhinitis & Upper Airway Immunology|      Cochlear Implants & Auditory Technologies |Advanced ENT Surgical Techniques |        Minimally   Invasive ENT Procedures | Speech & Swallowing Disorders | AI & Digital Innovation in ENT| ENT Critical Care & Emergency Protocols |Global ENT Health & Healthcare Equity|\nWhy Singapore?\nSingapore\, often called the “Lion City\,” is a dynamic global hub located at the crossroads of Asia Known for its remarkable transformation from a small trading post to one of the world’s most prosperous cities\,provides perfect settling for ENT Conference 2026 .Singapore City blends modern innovation with rich cultural heritage\, making it a truly unique destination. One of the most striking features of Singapore is its impressive skyline.\nRegards\nRosy Williams\nEvent Head| ENT Conference 2026\nNoveltics Group LLC\nT: +1-302-364-2294\nE : ent@speakersgathering.com\nW: https://ent.novelticsconferences.com/
URL:https://www.bcnd.ca/event/international-conference-on-otolaryngology-and-ent-disorders/
LOCATION:Park Avenue Rochester\, 31 Rochester Dr\, Singapore 138637
ATTACH;FMTTYPE=image/png:https://www.bcnd.ca/wp2/wp-content/uploads/2025/10/ENT-banner-10-scaled.png
END:VEVENT
BEGIN:VEVENT
DTSTART;TZID=America/Vancouver:20260706T090000
DTEND;TZID=America/Vancouver:20260707T180000
DTSTAMP:20260421T033729
CREATED:20260112T204147Z
LAST-MODIFIED:20260112T204148Z
UID:10000761-1783328400-1783447200@www.bcnd.ca
SUMMARY:3rd International Conference on Advanced Pediatrics and Neonatology
DESCRIPTION:Join us at the “3rd International Conference on Advanced Pediatrics and Neonatology” in Singapore City\, Singapore on July 06-07\, 2026\, a vibrant forum dedicated to elevating pediatric and neonatal care. Step into an inspiring experience at pediatrics global summit\, where top-tier experts\, passionate clinicians\, and innovative researchers unite to share cutting-edge discoveries\, explore emerging trends\, and pioneer transformative strategies to enhance the health of children and newborns worldwide. \nImmerse yourself in the complex realm of pediatric and neonatal care through captivating presentations by distinguished speakers\, who will reveal groundbreaking research\, decode the intricacies of childhood illnesses\, introduce innovative treatments\, and advocate for preventive strategies. Gain insights into the latest advancements in neonatal care\, equipping you with the expertise to manage preterm infants\, address neonatal conditions\, and optimize outcomes for the tiniest patients. Recognize the vital role of public health in advancing child well-being as you explore community-driven initiatives\, policy advancements\, and research efforts shaping the future of pediatric public health. Hone your clinical skills across diverse pediatric subspecialties\, such as infectious diseases\, neurology\, psychiatry\, adolescent care\, nutrition\, and allergy/immunology\, by learning from seasoned clinicians who share practical insights for tackling challenging cases. \nStay at the forefront of revolutionary developments in areas like personalized medicine\, precision prevention\, global child health\, and advocacy\, which are redefining how we care for children and newborns. Build lasting professional relationships through engaging presentations\, dynamic panel discussions\, and interactive poster sessions\, fostering collaboration and contributing to the global mission of improving child and neonatal health. Be a part of the Advanced Pediatrics and Neonatology Conference and play a key role in shaping a healthier future for children and newborns worldwide.
URL:https://www.bcnd.ca/event/3rd-international-conference-on-advanced-pediatrics-and-neonatology-3/
LOCATION:singapore
ATTACH;FMTTYPE=image/png:https://www.bcnd.ca/wp2/wp-content/uploads/2025/12/Pediatrics-2026.png
END:VEVENT
BEGIN:VEVENT
DTSTART;TZID=America/Vancouver:20261019T090000
DTEND;TZID=America/Vancouver:20261020T180000
DTSTAMP:20260421T033729
CREATED:20260112T204147Z
LAST-MODIFIED:20260112T204147Z
UID:10000760-1792400400-1792519200@www.bcnd.ca
SUMMARY:International Conference on Positive Psychology and Mental Health
DESCRIPTION:We are delighted to welcome you to the “International Conference on Positive Psychology and Mental Health”\, taking place on October 19-20\, 2026\, in Rome\, Italy — an all-new international platform dedicated to advancing knowledge\, sharing innovative research\, and fostering collaboration in the fields of positive psychology and mental well-being.
URL:https://www.bcnd.ca/event/international-conference-on-positive-psychology-and-mental-health/
LOCATION:Rome\,Italy
ATTACH;FMTTYPE=image/jpeg:https://www.bcnd.ca/wp2/wp-content/uploads/2025/12/1764251474810.jpg
END:VEVENT
END:VCALENDAR