BEGIN:VCALENDAR
VERSION:2.0
PRODID:-//BCND - ECPv6.15.20//NONSGML v1.0//EN
CALSCALE:GREGORIAN
METHOD:PUBLISH
X-WR-CALNAME:BCND
X-ORIGINAL-URL:https://www.bcnd.ca
X-WR-CALDESC:Events for BCND
REFRESH-INTERVAL;VALUE=DURATION:PT1H
X-Robots-Tag:noindex
X-PUBLISHED-TTL:PT1H
BEGIN:VTIMEZONE
TZID:America/Vancouver
BEGIN:DAYLIGHT
TZOFFSETFROM:-0800
TZOFFSETTO:-0700
TZNAME:PDT
DTSTART:20230312T100000
END:DAYLIGHT
BEGIN:STANDARD
TZOFFSETFROM:-0700
TZOFFSETTO:-0800
TZNAME:PST
DTSTART:20231105T090000
END:STANDARD
BEGIN:DAYLIGHT
TZOFFSETFROM:-0800
TZOFFSETTO:-0700
TZNAME:PDT
DTSTART:20240310T100000
END:DAYLIGHT
BEGIN:STANDARD
TZOFFSETFROM:-0700
TZOFFSETTO:-0800
TZNAME:PST
DTSTART:20241103T090000
END:STANDARD
BEGIN:DAYLIGHT
TZOFFSETFROM:-0800
TZOFFSETTO:-0700
TZNAME:PDT
DTSTART:20250309T100000
END:DAYLIGHT
BEGIN:STANDARD
TZOFFSETFROM:-0700
TZOFFSETTO:-0800
TZNAME:PST
DTSTART:20251102T090000
END:STANDARD
END:VTIMEZONE
BEGIN:VEVENT
DTSTART;TZID=America/Vancouver:20241018T090000
DTEND;TZID=America/Vancouver:20241019T170000
DTSTAMP:20260421T033601
CREATED:20240229T080000Z
LAST-MODIFIED:20240229T080000Z
UID:10000568-1729242000-1729357200@www.bcnd.ca
SUMMARY:2024 World Neuroscience and Psychiatry Conference
DESCRIPTION:Episirus Scientifica welcomes you to attend 2024 World Neuroscience and Psychiatry Conference (2024WNPC) held during October 18-19\, 2024 in Osaka\,Japan with the theme “Melioration in Innovations with advancement in Mental Health and Neurology”. This international meet anticipates hundreds of participants including keynote speakers\, Oral presentations by renowned speakers and poster presenters besides delegates around the world. This conference perhaps a giant event that creates an ideal platform to share expertise addressing current advancements involved in Neuroscience\, Psychiatry and Neurology. It will be a wonderful opportunity for all the delegates as it provides an international networking opportunity to collaborate with the world-class Neurology\, Mental Health and Medical Associations.\nEpisirus Scientifica holds the 2024 World Neuroscience and Psychiatry Conference (2024WNPC) during October 18-19\, 2024 in Osaka\, Japan as one of the event that brings together eminent neurologists\, psychiatrists\, psychologists and neuroscientists experiences from different countries and exchanges their views through scientific discovery\, interactive sessions\, keynote lectures\, workshops and offers exceptional sessions\, presentations with great education and networking opportunities for all levels of academic professionals and with leaders in the field of neurology\, neuroscience\, psychiatry and psychology. The conference will be organized around the theme ‘Melioration in Innovations with advancement in Mental Health and Neurology.\nScientific Sessions:\nNeuroscience and Neurology\nMental Plasticity & Development\nStress Neuroscience and the Neurobiology\nNeurosurgery\nBrain Injury\nStroke and Trauma\nNeurochemistry\nNeuropharmacology\nNeuroendocrinology\nNeuroimaging\nControversies in Neurology\nPsychiatry\nNeurological Disorders\nPaediatric Neurology\nPsychology\nAdult Neurogenesis and Cell Biology\nAgeing and Dementia\, Alzheimer Disease\nTarget Audience\n•	Neurologists\, Neurosurgeons\, Neuroscientists\, and Researchers\n•	Neurology Faculty and Students\n•	Doctors and Scientists\n•	Universities\, Associations\, and Societies\n•	Students and Research Scholars\n•	Business Delegates\n•	Product Manufacturer\n•	Psychiatrists and Psychologists\nCompany Description:\nCompany website: https://episirus.org/\nWith a view to promoting the research advancement\, Episirus Scientifica is committed to bringing together leading experts of medical professionals\, researchers\, engineers\, and scientists at a single platform. We aspire to keep the world abreast of changing dynamics of the scientific arena through our international conferences\, events\, and exhibitions. Our motive is to create a nexus of distinguished scholars\, young researchers and industry experts to collaborate and harness the benefit of the scholars networking through our strong chain of academicians and market experts\, we always strive to bring changes to our scientific events.\nThis coming year Episirus Scientifica welcomes all the medical professionals to attend 2024 World Neuroscience and Psychiatry Conference (2024WNPC) held in Osaka\,Japan. It will be a wonderful opportunity for all the participants as it provides an international networking opportunity to collaborate with the world-class medical associations.
URL:https://www.bcnd.ca/event/2024-world-neuroscience-and-psychiatry-conference/
LOCATION:ANA Crowne Plaza Osaka\, 1-3-1 Dojimahama\, Kita-ku\, Osaka 530-0004\, Japan
ATTACH;FMTTYPE=image/jpeg:https://www.bcnd.ca/wp2/wp-content/uploads/2025/03/Neuro-Banner-1.jpg
END:VEVENT
END:VCALENDAR