BEGIN:VCALENDAR
VERSION:2.0
PRODID:-//BCND - ECPv6.15.20//NONSGML v1.0//EN
CALSCALE:GREGORIAN
METHOD:PUBLISH
X-WR-CALNAME:BCND
X-ORIGINAL-URL:https://www.bcnd.ca
X-WR-CALDESC:Events for BCND
REFRESH-INTERVAL;VALUE=DURATION:PT1H
X-Robots-Tag:noindex
X-PUBLISHED-TTL:PT1H
BEGIN:VTIMEZONE
TZID:America/Vancouver
BEGIN:DAYLIGHT
TZOFFSETFROM:-0800
TZOFFSETTO:-0700
TZNAME:PDT
DTSTART:20230312T100000
END:DAYLIGHT
BEGIN:STANDARD
TZOFFSETFROM:-0700
TZOFFSETTO:-0800
TZNAME:PST
DTSTART:20231105T090000
END:STANDARD
BEGIN:DAYLIGHT
TZOFFSETFROM:-0800
TZOFFSETTO:-0700
TZNAME:PDT
DTSTART:20240310T100000
END:DAYLIGHT
BEGIN:STANDARD
TZOFFSETFROM:-0700
TZOFFSETTO:-0800
TZNAME:PST
DTSTART:20241103T090000
END:STANDARD
BEGIN:DAYLIGHT
TZOFFSETFROM:-0800
TZOFFSETTO:-0700
TZNAME:PDT
DTSTART:20250309T100000
END:DAYLIGHT
BEGIN:STANDARD
TZOFFSETFROM:-0700
TZOFFSETTO:-0800
TZNAME:PST
DTSTART:20251102T090000
END:STANDARD
END:VTIMEZONE
BEGIN:VEVENT
DTSTART;TZID=America/Vancouver:20240518T090000
DTEND;TZID=America/Vancouver:20240518T130000
DTSTAMP:20260423T044350
CREATED:20240510T070000Z
LAST-MODIFIED:20240510T070000Z
UID:10000589-1716022800-1716037200@www.bcnd.ca
SUMMARY:Clementine Natural Health Free Pap Day
DESCRIPTION:Join the fabulous team at Clementine Natural Health for a free pap screening day on Saturday\, May 18th! In honour of Naturopathic Medicine Week\, Dr Alex Dragan\, ND is offering complimentary women’s wellness exams at our South Granville Clinic. (If you can’t find a spot\, please add yourself to the waitlist or email hello@clementineclinic.com)
URL:https://www.bcnd.ca/event/clementine-natural-health-free-pap-day/
LOCATION:Clementine Natural Health
ATTACH;FMTTYPE=image/png:https://www.bcnd.ca/wp2/wp-content/uploads/2025/03/Screenshot-2024-04-19-at-11.06.37 AM.png
END:VEVENT
END:VCALENDAR