BEGIN:VCALENDAR
VERSION:2.0
PRODID:-//BCND - ECPv6.15.20//NONSGML v1.0//EN
CALSCALE:GREGORIAN
METHOD:PUBLISH
X-ORIGINAL-URL:https://www.bcnd.ca
X-WR-CALDESC:Events for BCND
REFRESH-INTERVAL;VALUE=DURATION:PT1H
X-Robots-Tag:noindex
X-PUBLISHED-TTL:PT1H
BEGIN:VTIMEZONE
TZID:America/Vancouver
BEGIN:DAYLIGHT
TZOFFSETFROM:-0800
TZOFFSETTO:-0700
TZNAME:PDT
DTSTART:20190310T100000
END:DAYLIGHT
BEGIN:STANDARD
TZOFFSETFROM:-0700
TZOFFSETTO:-0800
TZNAME:PST
DTSTART:20191103T090000
END:STANDARD
BEGIN:DAYLIGHT
TZOFFSETFROM:-0800
TZOFFSETTO:-0700
TZNAME:PDT
DTSTART:20200308T100000
END:DAYLIGHT
BEGIN:STANDARD
TZOFFSETFROM:-0700
TZOFFSETTO:-0800
TZNAME:PST
DTSTART:20201101T090000
END:STANDARD
BEGIN:DAYLIGHT
TZOFFSETFROM:-0800
TZOFFSETTO:-0700
TZNAME:PDT
DTSTART:20210314T100000
END:DAYLIGHT
BEGIN:STANDARD
TZOFFSETFROM:-0700
TZOFFSETTO:-0800
TZNAME:PST
DTSTART:20211107T090000
END:STANDARD
BEGIN:DAYLIGHT
TZOFFSETFROM:-0800
TZOFFSETTO:-0700
TZNAME:PDT
DTSTART:20220313T100000
END:DAYLIGHT
BEGIN:STANDARD
TZOFFSETFROM:-0700
TZOFFSETTO:-0800
TZNAME:PST
DTSTART:20221106T090000
END:STANDARD
BEGIN:DAYLIGHT
TZOFFSETFROM:-0800
TZOFFSETTO:-0700
TZNAME:PDT
DTSTART:20230312T100000
END:DAYLIGHT
BEGIN:STANDARD
TZOFFSETFROM:-0700
TZOFFSETTO:-0800
TZNAME:PST
DTSTART:20231105T090000
END:STANDARD
BEGIN:DAYLIGHT
TZOFFSETFROM:-0800
TZOFFSETTO:-0700
TZNAME:PDT
DTSTART:20240310T100000
END:DAYLIGHT
BEGIN:STANDARD
TZOFFSETFROM:-0700
TZOFFSETTO:-0800
TZNAME:PST
DTSTART:20241103T090000
END:STANDARD
BEGIN:DAYLIGHT
TZOFFSETFROM:-0800
TZOFFSETTO:-0700
TZNAME:PDT
DTSTART:20250309T100000
END:DAYLIGHT
BEGIN:STANDARD
TZOFFSETFROM:-0700
TZOFFSETTO:-0800
TZNAME:PST
DTSTART:20251102T090000
END:STANDARD
END:VTIMEZONE
BEGIN:VEVENT
DTSTART;TZID=America/Vancouver:20241118T090000
DTEND;TZID=America/Vancouver:20241119T170000
DTSTAMP:20260421T032743
CREATED:20240412T070000Z
LAST-MODIFIED:20240412T070000Z
UID:10000576-1731920400-1732035600@www.bcnd.ca
SUMMARY:International Conference on Gynecology and Women's Health
DESCRIPTION:The International Conference on Gynecology and Women’s Health in Dubai\, UAE\, scheduled for November 18-19\, 2024\, is a prestigious event aimed at fostering collaboration\, sharing knowledge\, and promoting advancements in the field of women’s healthcare. This conference brings together healthcare professionals\, researchers\, academics\, industry experts\, and policymakers from around the world to discuss the latest developments\, challenges\, and solutions in gynecology and women’s health. \nAttendees can expect a comprehensive program featuring keynote presentations\, panel discussions\, workshops\, and poster sessions covering a wide range of topics such as gynecological surgery\, obstetrics\, reproductive health\, gynecological oncology\, menopause management\, adolescent gynecology\, and more. The conference will also address global issues related to women’s health disparities\, access to healthcare\, and emerging technologies in gynecological care. \nThe International Conference on Gynecology and Women’s Health in Dubai is poised to be a transformative event\, offering valuable insights\, fostering partnerships\, and driving advancements that will ultimately improve the health and well-being of women worldwide
URL:https://www.bcnd.ca/event/international-conference-on-gynecology-and-womens-health-8/
LOCATION:Dubai UAE
ATTACH;FMTTYPE=image/png:https://www.bcnd.ca/wp2/wp-content/uploads/2025/03/Gynecology-2024.png
END:VEVENT
BEGIN:VEVENT
DTSTART;TZID=America/Vancouver:20241118T090000
DTEND;TZID=America/Vancouver:20241119T170000
DTSTAMP:20260421T032743
CREATED:20240405T070000Z
LAST-MODIFIED:20240405T070000Z
UID:10000575-1731920400-1732035600@www.bcnd.ca
SUMMARY:International Conference on Gynecology and Women’s Health
DESCRIPTION:The International Conference on Gynecology and Women’s Health in Dubai\, UAE\, scheduled for November 18-19\, 2024\, is a prestigious event aimed at fostering collaboration\, sharing knowledge\, and promoting advancements in the field of women’s healthcare. This conference brings together healthcare professionals\, researchers\, academics\, industry experts\, and policymakers from around the world to discuss the latest developments\, challenges\, and solutions in gynecology and women’s health.\nAttendees can expect a comprehensive program featuring keynote presentations\, panel discussions\, workshops\, and poster sessions covering a wide range of topics such as gynecological surgery\, obstetrics\, reproductive health\, gynecological oncology\, menopause management\, adolescent gynecology\, and more. The conference will also address global issues related to women’s health disparities\, access to healthcare\, and emerging technologies in gynecological care.\nThe International Conference on Gynecology and Women’s Health in Dubai is poised to be a transformative event\, offering valuable insights\, fostering partnerships\, and driving advancements that will ultimately improve the health and well-being of women worldwide.
URL:https://www.bcnd.ca/event/international-conference-on-gynecology-and-womens-health-7/
LOCATION:Dubai UAE
END:VEVENT
BEGIN:VEVENT
DTSTART;VALUE=DATE:20240918
DTEND;VALUE=DATE:20240920
DTSTAMP:20260421T032743
CREATED:20240513T070000Z
LAST-MODIFIED:20240513T070000Z
UID:10000590-1726617600-1726790399@www.bcnd.ca
SUMMARY:2nd International Conference on Alternative Medicine and Integrative Health AMIH 2024 Dubai UAE
DESCRIPTION:It is a great pleasure to invite you to participate at 2ndInternational Conference on Alternative Medicine and Integrative Health (AMIH 2024) from September 18-19\, 2024| at Dubai\, UAE. \n  \nOfficial Website: https://alternativemedicineconference.com/ \nLooking forward to hearing from you soon. \n 
URL:https://www.bcnd.ca/event/2nd-international-conference-on-alternative-medicine-and-integrative-health-amih-2024-dubai-uae/
LOCATION:Dubai UAE
END:VEVENT
BEGIN:VEVENT
DTSTART;TZID=America/Vancouver:20231123T090000
DTEND;TZID=America/Vancouver:20231124T170000
DTSTAMP:20260421T032743
CREATED:20230109T080000Z
LAST-MODIFIED:20230109T080000Z
UID:10000463-1700730000-1700845200@www.bcnd.ca
SUMMARY:2nd Global Conference on Pharmaceuticals and Clinical Research
DESCRIPTION:After the grand success of our first series “Global Conference on Pharmaceuticals and Clinical Research”\, We cordially invite you all to attend the “2nd Global Conference on Pharmaceuticals and Clinical Research” on November 23-24\, 2023 in Dubai\, UAE with the theme of Futuristic Advancements in Pharmaceuticals and Clinical Research. \nThe conference provides an opportunity to network with key opinion leaders and service providers from around the world. Practicing physicians with clinical experience in a variety of treatment areas\, as well as members of patient organizations\, will be among the attendees. Pharmaceutical and biotech enterprises\, med-tech and medical equipment companies\, consulting firms\, clinical research organizations\, and data management corporations will all demonstrate and exhibit their wares. It will be an interdisciplinary forum for keynote talks\, oral or poster presentations\, workshops/symposia\, and networking with scholars from all over the world to make professional network\, generate new possibilities\, and collaborate.
URL:https://www.bcnd.ca/event/2nd-global-conference-on-pharmaceuticals-and-clinical-research/
LOCATION:Dubai UAE
ATTACH;FMTTYPE=image/png:https://www.bcnd.ca/wp2/wp-content/uploads/2025/03/Logo-3.png
END:VEVENT
BEGIN:VEVENT
DTSTART;TZID=America/Vancouver:20230725T080000
DTEND;TZID=America/Vancouver:20230727T180000
DTSTAMP:20260421T032743
CREATED:20220812T070000Z
LAST-MODIFIED:20220812T070000Z
UID:10000416-1690272000-1690480800@www.bcnd.ca
SUMMARY:12th International Nursing\, Healthcare and Patient Safety Conference
DESCRIPTION:Dear colleagues and friends\, \nWe cordially invite you to the 12th International Nursing\, Healthcare and Patient Safety Conference\, which will be held in Dubai\, UAE\, from July 25-27\, 2023. The theme of the conference “Future of Nursing\, Healthcare and Patient Safety”. Keynote lectures and workshops are part of the Nursing\, Healthcare and Patient Safety Conference. Meet experts from around the world to discuss various sessions on connecting\, interacting\, and transforming innovations in nursing and healthcare management and patient safety\, as well as promoting international collaboration in clinical and research practise. This exciting programme will be presented by delegates and poster sessions from all over the world. \nWe look forward to welcoming you on July 25-27\, 2023. \nCall for Paper: \nCall for Abstracts is now open for the 12th International Nursing\, Healthcare and Patient Safety Conference at Dubai\, UAE during July 25-27\, 2023. With the motto “Future of Nursing\, Healthcare and Patient Safety”. \nThe presenting speaker/author must register and pay the registration fee (please note that registration is required in order to be included in the final program\, to have the abstract published in the online “Book/proceedings” of Nursing\, Healthcare and Patient Safety 2023\, and to be invited to submit an abstract for publication in the official Proceedings. \nConference Key Sessions: \nNursing in Healthcare | Nursing & Health Sciences | Healthcare Simulation | Home Care Nursing Services | Advanced Healthcare | Types of Nursing in Healthcare | Public Health Nursing | Healthcare Leadership | Healthcare Management | Hospital Management | Internal Medicine | Pharmacology | Psychiatry and Mental Health | Healthcare Quality | Family Medicine | Child Health Advanced Nursing Practices during Pandemic | Nurse Protection during Pandemics | Oncology Nursing | Cardiac Nursing | Gynaecology and Obstetrics Nursing | Nursing Education | Global Healthcare | Family Nursing | Men in Nursing | Nursing Care | Women Health Nursing | Infection Control | Healthcare Quality improvement | Tele Healthcare | Digital Healthcare | Healthcare Services | Healthcare Marketing \nConference Benefits: \nGet continuing medical education (CME) and Continuing Professional Development (CPD)\nParticipate in professional networking\nCollect material for personal knowledge\nMeet with specific company representatives\nEnjoy sessions & entertainment\nParticipation Certificate\nPresent your ideas and work to others\nOpportunity to hear from and interact with leaders in your field\nAdds Value to your CV\nConferences engage thousands of keynote speakers\, speakers\, delegates\, practitioners\, and students. \nImportant Information:\nConference Name: 12th International Nursing\, Healthcare and Patient Safety Conference\nShort Name: 12NHPSUCG2023\nDates: July 25-27\, 2023\nVenue: Dubai\, UAE\nEmail: nursing@ucgconferences.com\nVisit: :  https://nursing-healthcare.universeconferences.com/\nCall for Papers: https://nursing-healthcare.universeconferences.com/submit-abstract/\nRegister herehttps://nursing-healthcare.universeconferences.com/registration/\nCall Us/What Sapp Us: +12073070027/ +442033222718 \n  \n  \nTarget Audience/who should attend/ who you can network with \nNurses\, Doctors\, Professors\, Registered Nurse\, Practitioner Nurse\, Student Nurse\, Academics and Researchers. Students of medicine disciplines. Clinicians. Specialists in Patient Safety and Quality Healthcare\, Chief nursing officers and nursing staff\, Quality and compliance officers\, Infection control officers\, Risk management personnel\, Patient Safety Officers/Patient Safety Managers\, Managing Directors/ Department Managers\, Quality Management Professionals/Quality Improvement Managers/Quality Assurance Professionals/Managers\, Risk Managers\, Infection Perfectionists\, Infectious Disease Consultants\, CSSD (sterile service) Managers/Supervisors/ Technicians\, Clinical Lead/Senior Clinical Health practitioner/Head of clinical service delivery\, Head of Education and training/clinical lead for training and development/director of HR\, education and Training\, General practitioner\, pharmacist\, Patient representatives\, Academic- including researchers\, professors\, and students\, Patient safety lead/Patient safety manager/head of quality/Quality lead/manager of quality improvement\, infection prevention lead. \nConnect with us: \nTwitter: https://twitter.com/DrAthmarAliM1\nInstagram: https://www.instagram.com/dr.athmaralim/ \nPinterest: https://in.pinterest.com/drathmara/ \nTumblr: https://www.tumblr.com/blog/view/nursingucgconference \nFlickr: https://www.flickr.com/people/196180878@N04/ \nReddit: https://www.reddit.com/user/NURSINGUCGCONFERENCE \nBlogger: https://www.blogger.com/profile/03328619646055359974 \nXing: https://www.xing.com/profile/DrAthmar_AliM/cv \nhttps://www.youtube.com/channel/UCS1TFe3nzRlREovQIjYMPkg \n  \n  \nNHPSUCG -SUPPORTING JOURNALS \nUnified Citation Journals is a platform for the latest discoveries in Technology\, Science\, engineering\, medicine\, medical clinical\, and advancing discoveries and health. We at Unified Citation Journals ensure the advancement of healthcare and improve performance for the benefit of humanity. Unified Citation Journals empower and publish scientific research work. We will be including special issues and symposia papers in related journals from all over the world. Apart from publishing\, we also promote upcoming books covering different fields of science\, medicine\, engineering\, technology\, etc. Unified Citation Journals help Authors\, Publishers\, and Distributors\, in growing their business multifold. \nMore details: https://ucjournals.com/ \nSubmit your e-posters today! \nePoster Community is a medium of electronic presentation of your scientific posters that allow you to present and publish the latest scientific research work of your interest in front of worldwide viewers\, learners\, and open access community. An ePoster is worth a thousand words; it’s self-explanatory – it \nStands on its own and does most of your explanation digitally. We welcome researchers to submit their posters and make it visible. ePosters can contain many different rich resources such as research work\, case reports\, presentations\, company profiles\, assignments\, images\, trending news\, projects\, summary\, results\, apps\, links\, etc. More details: https://eposters.universeconferences.com/ \nAddress: Dubai\, UAE​ \nAbout Company/Organization/Host \nUtilitarian Conferences Gathering offers a wide range of events\, Meetings\, Conferences\, Workshops\, Symposium. We have a dedicated team who are aimed at acquiring the technologies\, adopting the knowledge of business needs\, and accelerate with best ideas and strategies. Utilitarian Conferences Gathering is a pioneer in the area of Event Management\, Collaboration. We are full-service event provider specializing in the field of Medical\, Clinical\, Healthcare\, Life Sciences\, Engineering\, Pharma\, Environmental Science\, Engineering\, Business\, Agricultural and Food event services for Academic and Industrial Sectors. We stand out distinctively from our competitors for our commitment to quality\, round the clock service\, and unmatched price. We are able to provide you with the best event\, Meeting experience under one roof. We at Utilitarian Conferences Gathering make sure that you as a client choose the most appropriate event.\nVisit: https://universeconferences.com/\nTwitter: https://twitter.com/DrAthmarAliM1\nLinkedIn: https://www.linkedin.com/company/ucg-utilitarian-conferences-gathering/   \nFacebook: https://www.facebook.com/Utilitarian-Conferences-Gathering-102364354933420\nE: contact@universeconferences.net\ninfo@utilitarianconferences.com
URL:https://www.bcnd.ca/event/12th-international-nursing-healthcare-and-patient-safety-conference/
LOCATION:Dubai UAE
ATTACH;FMTTYPE=image/png:https://www.bcnd.ca/wp2/wp-content/uploads/2025/03/12th-International-Nursing-Healthcare-Patient-Safety-Conference-13.png
END:VEVENT
BEGIN:VEVENT
DTSTART;VALUE=DATE:20230327
DTEND;VALUE=DATE:20230329
DTSTAMP:20260421T032743
CREATED:20221121T080000Z
LAST-MODIFIED:20221121T080000Z
UID:10000444-1679875200-1680047999@www.bcnd.ca
SUMMARY:27th Annual Summit on  Pediatrics\, Neonatology & Primary Care
DESCRIPTION:The “27th Annual Summit on Pediatrics\, Neonatology & Primary Care” will take place March 27-28\, 2023\, in Dubai\, United Arab Emirates. Conferenceseries LLC ltd is excited to invite you to attend. Pediatrics Meet 2023 will be a ground-breaking and transformative international conference that will reflect the future of paediatrics and perinatology in a safe yet dynamic setting that offers a wide variety of diversions to attendees from all backgrounds. Debating the most recent advancements in the industry may be a terrific chance at this conference.
URL:https://www.bcnd.ca/event/27th-annual-summit-on-pediatrics-neonatology-primary-care/
LOCATION:Dubai UAE
ATTACH;FMTTYPE=image/jpeg:https://www.bcnd.ca/wp2/wp-content/uploads/2025/03/315106130_151941800891051_6660205115458037672_n.jpg
END:VEVENT
BEGIN:VEVENT
DTSTART;TZID=America/Vancouver:20210322T093000
DTEND;TZID=America/Vancouver:20210323T180000
DTSTAMP:20260421T032743
CREATED:20201116T080000Z
LAST-MODIFIED:20201116T080000Z
UID:10000107-1616405400-1616522400@www.bcnd.ca
SUMMARY:36th International Conference on Dental and Oral Health
DESCRIPTION:ME Conferences take pleasure to inviting you to attend the “36th International Conference on Dental and Oral Health” during March 22-23\, 2021 held at Dubai\, UAE focusing on the theme “Towards the New Era of Healthy Smiles”. We invite all the participants who have an interest in sharing their data and analysis within the space of Dental and Oral Health.
URL:https://www.bcnd.ca/event/36th-international-conference-on-dental-and-oral-health-5/
LOCATION:Dubai UAE
ATTACH;FMTTYPE=image/jpeg:https://www.bcnd.ca/wp2/wp-content/uploads/2025/03/36th-International-Conference-on-Dental-and-Oral-Health-1.jpg
END:VEVENT
BEGIN:VEVENT
DTSTART;TZID=America/Vancouver:20200925T080000
DTEND;TZID=America/Vancouver:20200926T170000
DTSTAMP:20260421T032743
CREATED:20200325T070000Z
LAST-MODIFIED:20200325T070000Z
UID:10000067-1601020800-1601139600@www.bcnd.ca
SUMMARY:International Conference on Orthodontics
DESCRIPTION:It is our pleasure to inform you that we are going to organize International Conference on Orthodontics which is to be held on September 25-26\, 2020 in Dubai\, UAE. The theme of the conference is “Embracing Dental Implants and Orthodontics Discovery”. It will provide a global platform to discuss about the present and future challenges in dental health\, oral care\, Endodontic\, digital dentistry and cosmetic surgery etcIt is our pleasure to inform you that we are going to organize International Conference on Orthodontics which is to be held on September 25-26\, 2020 in Dubai\, UAE. The theme of the conference is “Embracing Dental Implants and Orthodontics Discovery”. It will provide a global platform to discuss about the present and future challenges in dental health\, oral care\, Endodontic\, digital dentistry and cosmetic surgery etc \nTarget Audience: \n\nOrthodontists\nImplantologists\nDental Partners or Owners\nEndodontists\nDental Hygienists & Therapists\nDentists\nOral/Dental Surgeons\nPeriodontists\nHealth Care Faculty`\nMedical Colleges\nHealth Care Associations and Societies\nDental and public health care coordinates\nDental or Oral Hygienists & Therapists\nDental Treatment Coordinators\nDental Nurses\nDental Business/Practice Managers\nDental Wholesalers\, Dealers and Distributors\nManufacturing Medical Devices Companies\nYoung Researchers and Students\n\nConference Highlights: \n\nOrthodontics and Dental Implants\nEndodontic\nProsthodontics\nPediatric Dentistry\nForensic dentistry\nDental Anesthesia\northogenetic Surgery\nOral & Maxillofacial Surgery\nDental Hygiene\nOral Microbiology & Pathology\nOral Implantology\nDental Sleep Medicine\nVeterinary Dentistry\nOral Appliance Therapy\nDigital Dentistry\nLaser and Nano Dentistry\n3-D Imaging in Dentistry\nDental Marketing\nDental EthicsTarget Audience:\n\nOrthodontists\nImplantologists\nDental Partners or Owners\nEndodontists\nDental Hygienists & Therapists\nDentists\nOral/Dental Surgeons\nPeriodontists\nHealth Care Faculty`\nMedical Colleges\nHealth Care Associations and Societies\nDental and public health care coordinates\nDental or Oral Hygienists & Therapists\nDental Treatment Coordinators\nDental Nurses\nDental Business/Practice Managers\nDental Wholesalers\, Dealers and Distributors\nManufacturing Medical Devices Companies\nYoung Researchers and Students\n\nConference Highlights: \n\nOrthodontics and Dental Implants\nEndodontic\nProsthodontics\nPediatric Dentistry\nForensic dentistry\nDental Anesthesia\northogenetic Surgery\nOral & Maxillofacial Surgery\nDental Hygiene\nOral Microbiology & Pathology\nOral Implantology\nDental Sleep Medicine\nVeterinary Dentistry\nOral Appliance Therapy\nDigital Dentistry\nLaser and Nano Dentistry\n3-D Imaging in Dentistry\nDental Marketing\nDental EthicsTarget Audience:\n\nOrthodontists\nImplantologists\nDental Partners or Owners\nEndodontists\nDental Hygienists & Therapists\nDentists\nOral/Dental Surgeons\nPeriodontists\nHealth Care Faculty`\nMedical Colleges\nHealth Care Associations and Societies\nDental and public health care coordinates\nDental or Oral Hygienists & Therapists\nDental Treatment Coordinators\nDental Nurses\nDental Business/Practice Managers\nDental Wholesalers\, Dealers and Distributors\nManufacturing Medical Devices Companies\nYoung Researchers and Students\n\nConference Highlights: \n\nOrthodontics and Dental Implants\nEndodontic\nProsthodontics\nPediatric Dentistry\nForensic dentistry\nDental Anesthesia\northogenetic Surgery\nOral & Maxillofacial Surgery\nDental Hygiene\nOral Microbiology & Pathology\nOral Implantology\nDental Sleep Medicine\nVeterinary Dentistry\nOral Appliance Therapy\nDigital Dentistry\nLaser and Nano Dentistry\n3-D Imaging in Dentistry\nDental Marketing\nDental EthicsTarget Audience:\n\nOrthodontists\nImplantologists\nDental Partners or Owners\nEndodontists\nDental Hygienists & Therapists\nDentists\nOral/Dental Surgeons\nPeriodontists\nHealth Care Faculty`\nMedical Colleges\nHealth Care Associations and Societies\nDental and public health care coordinates\nDental or Oral Hygienists & Therapists\nDental Treatment Coordinators\nDental Nurses\nDental Business/Practice Managers\nDental Wholesalers\, Dealers and Distributors\nManufacturing Medical Devices Companies\nYoung Researchers and Students\n\nConference Highlights: \n\nOrthodontics and Dental Implants\nEndodontic\nProsthodontics\nPediatric Dentistry\nForensic dentistry\nDental Anesthesia\northogenetic Surgery\nOral & Maxillofacial Surgery\nDental Hygiene\nOral Microbiology & Pathology\nOral Implantology\nDental Sleep Medicine\nVeterinary Dentistry\nOral Appliance Therapy\nDigital Dentistry\nLaser and Nano Dentistry\n3-D Imaging in Dentistry\nDental Marketing\nDental Ethics
URL:https://www.bcnd.ca/event/international-conference-on-orthodontics/
LOCATION:Dubai UAE
ATTACH;FMTTYPE=image/jpeg:https://www.bcnd.ca/wp2/wp-content/uploads/2025/03/orthodontics-cs-2020-45522.jpg
END:VEVENT
BEGIN:VEVENT
DTSTART;VALUE=DATE:20200925
DTEND;VALUE=DATE:20200927
DTSTAMP:20260421T032743
CREATED:20200421T070000Z
LAST-MODIFIED:20200421T070000Z
UID:10000069-1600992000-1601164799@www.bcnd.ca
SUMMARY:International Conference on  Data Mining
DESCRIPTION:Data Mining Conf 2020 is the leading conference dedicated to Data Scientists\, Engineers\, Businessmen\, Professors\, Researchers\, and other related Data users with the theme “Insight into advancement and applications of data mining”. The goal of Data Mining Conf 2020 is to deliver an outstanding program for exchange of ideas and authoritative views by leading professionals which covers the entire spectrum of research data mining\, artificial intelligence and machine learning and share the cross-cultural experiences of various latest technologies and applications.
URL:https://www.bcnd.ca/event/international-conference-on-data-mining/
LOCATION:Dubai UAE
END:VEVENT
END:VCALENDAR