BEGIN:VCALENDAR
VERSION:2.0
PRODID:-//BCND - ECPv6.15.20//NONSGML v1.0//EN
CALSCALE:GREGORIAN
METHOD:PUBLISH
X-WR-CALNAME:BCND
X-ORIGINAL-URL:https://www.bcnd.ca
X-WR-CALDESC:Events for BCND
REFRESH-INTERVAL;VALUE=DURATION:PT1H
X-Robots-Tag:noindex
X-PUBLISHED-TTL:PT1H
BEGIN:VTIMEZONE
TZID:America/Vancouver
BEGIN:DAYLIGHT
TZOFFSETFROM:-0800
TZOFFSETTO:-0700
TZNAME:PDT
DTSTART:20220313T100000
END:DAYLIGHT
BEGIN:STANDARD
TZOFFSETFROM:-0700
TZOFFSETTO:-0800
TZNAME:PST
DTSTART:20221106T090000
END:STANDARD
BEGIN:DAYLIGHT
TZOFFSETFROM:-0800
TZOFFSETTO:-0700
TZNAME:PDT
DTSTART:20230312T100000
END:DAYLIGHT
BEGIN:STANDARD
TZOFFSETFROM:-0700
TZOFFSETTO:-0800
TZNAME:PST
DTSTART:20231105T090000
END:STANDARD
BEGIN:DAYLIGHT
TZOFFSETFROM:-0800
TZOFFSETTO:-0700
TZNAME:PDT
DTSTART:20240310T100000
END:DAYLIGHT
BEGIN:STANDARD
TZOFFSETFROM:-0700
TZOFFSETTO:-0800
TZNAME:PST
DTSTART:20241103T090000
END:STANDARD
END:VTIMEZONE
BEGIN:VEVENT
DTSTART;TZID=America/Vancouver:20231011T000000
DTEND;TZID=America/Vancouver:20231012T090000
DTSTAMP:20260421T021910
CREATED:20230912T070000Z
LAST-MODIFIED:20230912T070000Z
UID:10000522-1696982400-1697101200@www.bcnd.ca
SUMMARY:WORKSHOP ON BIOLOGICAL THERAPIES AND ECOGUIDED INTERVENTIONISM - ORTHOBIOLOGY MUSCULOSKELETAL REGENERATIVE MEDICINE
DESCRIPTION:Aimed at Doctors specialized in Physical Medicine and Rehabilitation\, Orthopedics and Traumatology\, specialists in Sports Medicine\, Rheumatologists\, Clinicians\, Anesthesiology\, Family Medicine and those doctors interested in incorporating the different techniques in Regenerative Therapies for musculoskeletal pathologies. \n\n\n\n\n\nDIRECTOR OF THE COURSE Dr. Gastón Andrés Topol Medical specialist in Physical Medicine and Rehabilitation President of the Latin American Chapter of the AAOM Director of Dharma Regenerative Medicine\nCEO of Dharma Bioscience \nTECHNICAL SECRETARY Daniel David Álamo Arce PDI Department of Medical and Surgical Sciences\nUniversity of Las Palmas de Gran Canaria \nTEACHERS Dr. Gastón Andrés Topol (Argentina) Dr. Jonathan Fenton (USA) \n\n 
URL:https://www.bcnd.ca/event/workshop-on-biological-therapies-and-ecoguided-interventionism-orthobiology-musculoskeletal-regenerative-medicine/
LOCATION:FACULTY OF HEALTH SCIENCES – UNIVERSITY OF LAS PALMAS DE GRAN CANARIAS
ATTACH;FMTTYPE=image/png:https://www.bcnd.ca/wp2/wp-content/uploads/2025/03/ingles.png
END:VEVENT
END:VCALENDAR