BEGIN:VCALENDAR
VERSION:2.0
PRODID:-//BCND - ECPv6.15.20//NONSGML v1.0//EN
CALSCALE:GREGORIAN
METHOD:PUBLISH
X-WR-CALNAME:BCND
X-ORIGINAL-URL:https://www.bcnd.ca
X-WR-CALDESC:Events for BCND
REFRESH-INTERVAL;VALUE=DURATION:PT1H
X-Robots-Tag:noindex
X-PUBLISHED-TTL:PT1H
BEGIN:VTIMEZONE
TZID:America/Vancouver
BEGIN:DAYLIGHT
TZOFFSETFROM:-0800
TZOFFSETTO:-0700
TZNAME:PDT
DTSTART:20240310T100000
END:DAYLIGHT
BEGIN:STANDARD
TZOFFSETFROM:-0700
TZOFFSETTO:-0800
TZNAME:PST
DTSTART:20241103T090000
END:STANDARD
BEGIN:DAYLIGHT
TZOFFSETFROM:-0800
TZOFFSETTO:-0700
TZNAME:PDT
DTSTART:20250309T100000
END:DAYLIGHT
BEGIN:STANDARD
TZOFFSETFROM:-0700
TZOFFSETTO:-0800
TZNAME:PST
DTSTART:20251102T090000
END:STANDARD
BEGIN:DAYLIGHT
TZOFFSETFROM:-0800
TZOFFSETTO:-0700
TZNAME:PDT
DTSTART:20260308T100000
END:DAYLIGHT
BEGIN:STANDARD
TZOFFSETFROM:-0700
TZOFFSETTO:-0800
TZNAME:PST
DTSTART:20261101T090000
END:STANDARD
END:VTIMEZONE
BEGIN:VEVENT
DTSTART;TZID=America/Vancouver:20250804T080000
DTEND;TZID=America/Vancouver:20250806T170000
DTSTAMP:20260423T014156
CREATED:20250430T165430Z
LAST-MODIFIED:20250430T165430Z
UID:10000645-1754294400-1754499600@www.bcnd.ca
SUMMARY:Global Summit on Materials Science and Nanoscience
DESCRIPTION:Materials Science and Engineering\, Ceramics and Composite Materials Polymers Science and Technology\, Advanced Nanomaterials\, Mining and Metallurgy\, Carbon Nanostructures and 2D Materials\, Computational Modeling of Metals & Materials\, Smart Materials and Applications\, Metamaterials\, Energy Materials\, Advanced Materials Synthesis and Characterization\, Nanomaterials and Nanotechnology\, Thin Films and Coatings\, Nanomedicine and Nanobiotechnology\, Nanomaterials for Energy and Environment\, Nanofabrication and Nanolithography\, Biomaterials and Biomedical Engineering\, Hydrogen Energy and Fuel Cell Technology\, Magnetic Materials\, Crystallography\, Semiconductors\, Advanced Materials and  Nanotechnology\, Emerging Areas of Materials Science\,  Magnetism and Multiferroism\, Graphene and Its Technology.
URL:https://www.bcnd.ca/event/global-summit-on-materials-science-and-nanoscience/
LOCATION:frankfurt
ATTACH;FMTTYPE=image/jpeg:https://www.bcnd.ca/wp2/wp-content/uploads/2025/04/MATERIALS2025-Logo.jpg
END:VEVENT
END:VCALENDAR