BEGIN:VCALENDAR
VERSION:2.0
PRODID:-//BCND - ECPv6.15.20//NONSGML v1.0//EN
CALSCALE:GREGORIAN
METHOD:PUBLISH
X-ORIGINAL-URL:https://www.bcnd.ca
X-WR-CALDESC:Events for BCND
REFRESH-INTERVAL;VALUE=DURATION:PT1H
X-Robots-Tag:noindex
X-PUBLISHED-TTL:PT1H
BEGIN:VTIMEZONE
TZID:America/Vancouver
BEGIN:DAYLIGHT
TZOFFSETFROM:-0800
TZOFFSETTO:-0700
TZNAME:PDT
DTSTART:20230312T100000
END:DAYLIGHT
BEGIN:STANDARD
TZOFFSETFROM:-0700
TZOFFSETTO:-0800
TZNAME:PST
DTSTART:20231105T090000
END:STANDARD
BEGIN:DAYLIGHT
TZOFFSETFROM:-0800
TZOFFSETTO:-0700
TZNAME:PDT
DTSTART:20240310T100000
END:DAYLIGHT
BEGIN:STANDARD
TZOFFSETFROM:-0700
TZOFFSETTO:-0800
TZNAME:PST
DTSTART:20241103T090000
END:STANDARD
BEGIN:DAYLIGHT
TZOFFSETFROM:-0800
TZOFFSETTO:-0700
TZNAME:PDT
DTSTART:20250309T100000
END:DAYLIGHT
BEGIN:STANDARD
TZOFFSETFROM:-0700
TZOFFSETTO:-0800
TZNAME:PST
DTSTART:20251102T090000
END:STANDARD
END:VTIMEZONE
BEGIN:VEVENT
DTSTART;VALUE=DATE:20240516
DTEND;VALUE=DATE:20240518
DTSTAMP:20260423T031712
CREATED:20231011T070000Z
LAST-MODIFIED:20231011T070000Z
UID:10000524-1715817600-1715990399@www.bcnd.ca
SUMMARY:2nd International Conference On Nursing Care And Patient Safety
DESCRIPTION:With a great success rate in Nursing Care 2023\, Scientex Conferences welcomes you all to attend our second series of the conference entitled “2nd International Conference on Nursing Care and Patient Safety“ on May 16-17\, 2024 in Bangkok\, Thailand. The conference theme is “Analyzing the latest technologies and research in nursing care and patient safety“ with the goal of educating attendees on the most recent challenges in nursing care\, illuminating the most recent trends\, and analyzing the future of Patient safety and Healthcare science.
URL:https://www.bcnd.ca/event/2nd-international-conference-on-nursing-care-and-patient-safety/
LOCATION:Grand Mercure Bangkok Atrium\, 1880 Phetchaburi Rd\, Bangkapi\, Huai Khwang\, Bangkok 10310\, Thailand
ATTACH;FMTTYPE=image/png:https://www.bcnd.ca/wp2/wp-content/uploads/2025/03/Conference-logo.png
END:VEVENT
END:VCALENDAR