BEGIN:VCALENDAR
VERSION:2.0
PRODID:-//BCND - ECPv6.15.20//NONSGML v1.0//EN
CALSCALE:GREGORIAN
METHOD:PUBLISH
X-ORIGINAL-URL:https://www.bcnd.ca
X-WR-CALDESC:Events for BCND
REFRESH-INTERVAL;VALUE=DURATION:PT1H
X-Robots-Tag:noindex
X-PUBLISHED-TTL:PT1H
BEGIN:VTIMEZONE
TZID:America/Vancouver
BEGIN:DAYLIGHT
TZOFFSETFROM:-0800
TZOFFSETTO:-0700
TZNAME:PDT
DTSTART:20230312T100000
END:DAYLIGHT
BEGIN:STANDARD
TZOFFSETFROM:-0700
TZOFFSETTO:-0800
TZNAME:PST
DTSTART:20231105T090000
END:STANDARD
BEGIN:DAYLIGHT
TZOFFSETFROM:-0800
TZOFFSETTO:-0700
TZNAME:PDT
DTSTART:20240310T100000
END:DAYLIGHT
BEGIN:STANDARD
TZOFFSETFROM:-0700
TZOFFSETTO:-0800
TZNAME:PST
DTSTART:20241103T090000
END:STANDARD
BEGIN:DAYLIGHT
TZOFFSETFROM:-0800
TZOFFSETTO:-0700
TZNAME:PDT
DTSTART:20250309T100000
END:DAYLIGHT
BEGIN:STANDARD
TZOFFSETFROM:-0700
TZOFFSETTO:-0800
TZNAME:PST
DTSTART:20251102T090000
END:STANDARD
BEGIN:DAYLIGHT
TZOFFSETFROM:-0800
TZOFFSETTO:-0700
TZNAME:PDT
DTSTART:20260308T100000
END:DAYLIGHT
BEGIN:STANDARD
TZOFFSETFROM:-0700
TZOFFSETTO:-0800
TZNAME:PST
DTSTART:20261101T090000
END:STANDARD
END:VTIMEZONE
BEGIN:VEVENT
DTSTART;TZID=America/Vancouver:20251017T180000
DTEND;TZID=America/Vancouver:20251019T040000
DTSTAMP:20260419T075401
CREATED:20241029T070000Z
LAST-MODIFIED:20241029T070000Z
UID:10000632-1760724000-1760846400@www.bcnd.ca
SUMMARY:International Neurology Conference 2025
DESCRIPTION:We are thrilled to announce the International Neurology Conference 2025\, hosted by the PubScholars Group\, taking place in the vibrant city of Bangkok\, Thailand\, on January 11-12\, 2025. This neurology congress 2025 will be held at the Grand Mercure Bangkok Atrium\, a premier venue known for its modern amenities and exceptional service. Located in the heart of Bangkok\, the hotel provides an ideal setting for this prestigious event\, featuring state-of-the-art conference facilities equipped with the latest audio-visual technology\, ensuring a seamless experience for all attendees. Join us for an inspiring gathering of leading experts in the field of neurology!
URL:https://www.bcnd.ca/event/international-neurology-conference-2025/
LOCATION:Grand Mercure Bangkok Atrium
ATTACH;FMTTYPE=image/png:https://www.bcnd.ca/wp2/wp-content/uploads/2025/03/Blue-Modern-Home-For-Sale-Flyer-2.png
END:VEVENT
BEGIN:VEVENT
DTSTART;TZID=America/Vancouver:20241107T090000
DTEND;TZID=America/Vancouver:20250307T170000
DTSTAMP:20260419T075401
CREATED:20240716T070000Z
LAST-MODIFIED:20240716T070000Z
UID:10000611-1730970000-1741366800@www.bcnd.ca
SUMMARY:4th International Conference on Global Healthcare and Nutrition
DESCRIPTION:We are thrilled to announce the 4th International Conference on Global Healthcare and Nutrition (ICGHC 2024)\, following the successful completion of its 3rd series. This prestigious event will take place on November 07- 08\, 2024\, in the vibrant city of Bangkok\, Thailand. The aim of the conference is to provide a platform for Students\, Doctors\, Researchers\, and Academicians to share the knowledge\, concepts\, and ideas in the recent trends in the field of Life Science and Health Science.
URL:https://www.bcnd.ca/event/4th-international-conference-on-global-healthcare-and-nutrition/
LOCATION:Grand Mercure Bangkok Atrium
ATTACH;FMTTYPE=image/png:https://www.bcnd.ca/wp2/wp-content/uploads/2025/03/Logo-3-1.png
END:VEVENT
BEGIN:VEVENT
DTSTART;TZID=America/Vancouver:20240505T190000
DTEND;TZID=America/Vancouver:20240507T030000
DTSTAMP:20260419T075401
CREATED:20230722T070000Z
LAST-MODIFIED:20230722T070000Z
UID:10000516-1714935600-1715050800@www.bcnd.ca
SUMMARY:2nd International Conference on Neuroscience and Neurology (Hybrid Event)
DESCRIPTION:With the grand success of Neuroscience Congress 2023\, we are stepping into our 2nd series of the conference entitled “2nd International Conference on Neuroscience and Neurology” scheduled from May 06-07\, 2024 in Bangkok\, Thailand. \nWe cordially invite all the researchers\, scientists\, academia\, and students across the world to engage in our Neuroscience Congress 2024 which includes prompt keynote presentations\, oral talks\, poster presentations\, seminars and workshops with the theme of “Establishment of future advancements in Neurological and Neuroscience research”.
URL:https://www.bcnd.ca/event/2nd-international-conference-on-neuroscience-and-neurology-hybrid-event/
LOCATION:Grand Mercure Bangkok Atrium
ATTACH;FMTTYPE=image/png:https://www.bcnd.ca/wp2/wp-content/uploads/2025/03/Neuroscience-Congress-2024_Logo.png
END:VEVENT
END:VCALENDAR