BEGIN:VCALENDAR
VERSION:2.0
PRODID:-//BCND - ECPv6.15.20//NONSGML v1.0//EN
CALSCALE:GREGORIAN
METHOD:PUBLISH
X-WR-CALNAME:BCND
X-ORIGINAL-URL:https://www.bcnd.ca
X-WR-CALDESC:Events for BCND
REFRESH-INTERVAL;VALUE=DURATION:PT1H
X-Robots-Tag:noindex
X-PUBLISHED-TTL:PT1H
BEGIN:VTIMEZONE
TZID:America/Vancouver
BEGIN:DAYLIGHT
TZOFFSETFROM:-0800
TZOFFSETTO:-0700
TZNAME:PDT
DTSTART:20230312T100000
END:DAYLIGHT
BEGIN:STANDARD
TZOFFSETFROM:-0700
TZOFFSETTO:-0800
TZNAME:PST
DTSTART:20231105T090000
END:STANDARD
BEGIN:DAYLIGHT
TZOFFSETFROM:-0800
TZOFFSETTO:-0700
TZNAME:PDT
DTSTART:20240310T100000
END:DAYLIGHT
BEGIN:STANDARD
TZOFFSETFROM:-0700
TZOFFSETTO:-0800
TZNAME:PST
DTSTART:20241103T090000
END:STANDARD
BEGIN:DAYLIGHT
TZOFFSETFROM:-0800
TZOFFSETTO:-0700
TZNAME:PDT
DTSTART:20250309T100000
END:DAYLIGHT
BEGIN:STANDARD
TZOFFSETFROM:-0700
TZOFFSETTO:-0800
TZNAME:PST
DTSTART:20251102T090000
END:STANDARD
END:VTIMEZONE
BEGIN:VEVENT
DTSTART;TZID=America/Vancouver:20241018T093000
DTEND;TZID=America/Vancouver:20241019T170000
DTSTAMP:20260423T014156
CREATED:20240213T080000Z
LAST-MODIFIED:20240213T080000Z
UID:10000562-1729243800-1729357200@www.bcnd.ca
SUMMARY:2024 World Critical Care and Anesthesiology Conference
DESCRIPTION:Episirus Scientifica welcomes you to attend  2024 World Critical Care and Anesthesiology Conference (2024 WCAC) to be held during October 18-19\, 2024 around the theme ‘Explore global health issues and initiatives related to critical care and anesthesia’. This international meet (2024WCAC) anticipates hundreds of participants including keynote speakers\, Oral presentations by renowned speakers and poster presenters besides delegates around the world. This conference is perhaps a giant event that creates an ideal platform to share expertise addressing current advancements involved in Critical Care and Anesthesiology. It will be a wonderful opportunity for all the delegates as it provides an international networking opportunity to collaborate with the world-class critical care\, Anesthesia\, trauma and Medical Associations. \n2024 World Critical Care & Anesthesiology Conference (2024 WCAC) is a premiere educational event which is designed to advance knowledge and expertise in trauma and critical care that rotate between continents and are organized in collaboration with national and international Anesthesiologic\, Pulmonary\, Thoracic and Critical Care societies and associations. This International Congress 2024 World Critical Care & Anesthesiology Conference October 18-19\, 2024.  The conference is targeted to the international Critical Care Medicine community as well as other healthcare professionals involved in multidisciplinary critical care surgical challenges; For every community\, there continues to be a need for surgical and medical teams to evaluate and treat the severely injured patients. It is appropriate that this Critical Care and Anesthesiology Conference Congress take the action of leading a continuing education venue for the complex operative and critical care surgical challenges and become the epitome of such series. The 2024 World Critical Care & Anesthesiology Conference (2024 WCAC) will be organized around the theme ‘Scientific advancement and exploration in Critical Care and Anesthesiology’ \nFew Topics which will be covered: \n•	Critical Care and Anesthetic Challenges\n•	Advances in Critical Care Technology\n•	Anesthesia for high risk patients\n•	ECMO\n•	Critical Care and Emergency Medicine\n•	Trauma and Anesthesiology\n•	Trauma Intensive Care\n•	Interventional Pulmonology\n•	Obstetric Anaesthesia\n•	Transplant Anesthesia\n•	Perioperative & Ambulatory Anaesthesia\n•	Pain and Regional Anesthesia\n•	Thoracic Surgery and Cardiac Anesthesia\n•	Pediatric Anesthesia and Pediatric Critical care\n•	Neuro Anesthesia and Neurocritical care\n•	ICU Management and Practice\n•	Pulmonary Hypertension\n•	Cardiac\, Thoracic & Vascular\n•	Respiratory Care\n•	Neuroscience\n•	Global Health\, Education and Development\n•	Research\, Safety\, Quality\, and Sustainability\n•	Technology\, Pharmacology & Artificial Intelligence \nTarget Audience: \nCritical care and trauma surgeons\nGeneral surgeons\nEmergency physicians\nAnesthesiologists\nPulmonologists\nTrauma coordinators\nSurgical residents\nThoracic surgeons and cardiologists\nTrauma and Critical Care Nurses\nPhysician assistants\nAllergist & immunologist\nIntensivists\nRespiratory care specialists\nInternists\nPhysicians\nAdvocates and researchers in public health and health promotion administrators\nTraining Institutes\nIndustry professionals\nResearchers\nFellows or Postdoctoral Students\nTherapists\nEmeritus\nYoung Research Scientists\nBusiness Delegates\nMedical Students\nDevice Manufacturing Companies\nAssociations and Societies
URL:https://www.bcnd.ca/event/2024-world-critical-care-and-anesthesiology-conference-11/
LOCATION:Osaka\, Japan
ATTACH;FMTTYPE=image/png:https://www.bcnd.ca/wp2/wp-content/uploads/2025/03/2024-WCAC-Japan-Logo-1.png
END:VEVENT
BEGIN:VEVENT
DTSTART;TZID=America/Vancouver:20241018T093000
DTEND;TZID=America/Vancouver:20241019T170000
DTSTAMP:20260423T014156
CREATED:20240213T080000Z
LAST-MODIFIED:20240213T080000Z
UID:10000563-1729243800-1729357200@www.bcnd.ca
SUMMARY:2024 World Endocrine\, Diabetes & Cardiovascular Conference (2024\,EDCC)
DESCRIPTION:Episirus Scientifica welcomes you to attend 2024World Endocrine\, Diabetes & Cardiovascular Conference (2024EDCC) to be held during October 18-19\, 2024\, in Osaka\, Japan around the theme “Bridging Science and Clinical Practice”. This international meet (2024EDCC) anticipates hundreds of participants including keynote speakers\, Oral presentations by renowned speakers and poster presenters besides delegates around the world. This conference perhaps a giant event that creates an ideal platform to share expertise addressing current advancements involved in Endocrine\, Diabetes & Cardiovascular Health. It will be a wonderful opportunity for all the delegates as it provides an international networking opportunity to collaborate with the world-class Endocrinology\, Obesity and Medical Associations. \n  \n2024 World Endocrine\, Diabetes & Cardiovascular Conference (2024EDCC) is a premiere educational event which is designed to advance knowledge and expertise in endocrine and obesity that rotate between continents and are organized in collaboration with national and international endocrinology and obesity societies and associations. This International Congress 2024EDCC is going to be held at Osaka\, Japan during October 18-19\, 2024.The conference is targeted to the international Endocrinology community as well as other healthcare professionals involved in multidisciplinary endocrine\, diabetic\, cardiovascular and metabolic challenges \nFocus Areas / Session Topics \n\n\nClinical Endocrinology\nMolecular Endocrinology\nEndocrine Oncology\, Endocrine Connections\nHypertension\nDiabetes\, Endocrine and Metabolism\nObesity\nCardiovascular Disorders\nNeuroendocrine\nPediatric Endocrine\nNutrition and Lifestyle\nThyroid Disorders\nReproductive endocrinology\nDiabetes\, Obesity\, Metabolism and Nutrition\nCalcium and Bone\nAdrenal and Cardiovascular Endocrinology\nEnvironmental Endocrinology\nClinical Endocrinology\nEndocrine related Cancer and Tumors\nNeuroendocrinology and NET (neuroendocrine tumor)\nReproductive and Development Endocrinology\nThyroid\nCardiovascular medicine\nPrecision Medicine\nTransgender Medicine and Research\nEndocrinology and Genetics\n\nTarget Audiences \n\nEndocrinologists\nPediatric endocrinologists\nNeuroendocrine Specialists\nReproductive endocrinologists\nPrimary care physicians\nThyroid\nAndrologist and Gynecologists\nDiabetologists\nCardiologists\nNutritionists and Metabolic Specialists\nOther health professionals\, such as nurses\, physician’s assistants\, and other clinicians who care for individuals with endocrine diseases
URL:https://www.bcnd.ca/event/2024-world-endocrine-diabetes-cardiovascular-conference-2024edcc-5/
LOCATION:Osaka\, Japan
ATTACH;FMTTYPE=image/jpeg:https://www.bcnd.ca/wp2/wp-content/uploads/2025/03/2024EDCC-LOGO-1.jpg
END:VEVENT
BEGIN:VEVENT
DTSTART;TZID=America/Vancouver:20241018T090000
DTEND;TZID=America/Vancouver:20241019T170000
DTSTAMP:20260423T014156
CREATED:20240220T080000Z
LAST-MODIFIED:20240220T080000Z
UID:10000566-1729242000-1729357200@www.bcnd.ca
SUMMARY:2024 World Pediatrics Conference
DESCRIPTION:Episirus Scientifica welcomes you to attend the 2024 World Paediatrics Conference (2024WPC) in collaboration with the Bulgarian Paediatric Association\, to be held on October 18–19\, 2024\, in Osaka\, Japan around the theme ‘Scientific advancement and exploration in Pediatrics and Neonatology’ accredited with CPD credits which enable the professionals from worldwide to exchange their views on a wide variety of topics affecting child care and those suffering from pediatric diseases around the world. Since Genetic variance\, developmental issues and Congenital defects are of a greater concern to pediatricians\, we will be exploring more into these fields. This international meet (2024WPC) anticipates hundreds of participants including keynote speakers\, Oral presentations by renowned speakers and poster presenters besides delegates around the world. This conference perhaps a giant event that creates an ideal platform to share expertise addressing current advancements involved in Pediatric and Neonatal care. It will be a wonderful opportunity for all the delegates as it provides an international networking opportunity to collaborate with the world-class Pediatric and Medical Associations.\n  \nFew Topics which will be covered: \n \n\nPediatric Biochemistry\nPediatric Epilepsy\nPediatric Genetics\nNeonatology and Pediatric Intensive Care\nPediatric Infectious Diseases\nPediatric Neuroradiology\nChild Nutrition\nPediatric Immunology\nPediatric Allergy and Dermatology\nPediatric Cardiology\nPediatric Psychology and Adolescent Medicine\nPediatric Neurology\nPediatric Hematology and Oncology\nPediatric Emergencies and many more\n\n  \nTarget Audience: \n \n\nPediatrician\nPediatirc Cardiologists\nPediatric Neurologists\nPediatric Researchers\nPediatric Scientists\nPediatric Nurses\nPediatric Dermatologists\nPediatric Faculty\nMedical Colleges\nPediatric Physicians\nTraining Institutes\nIndustry professionals\nResearchers\nFellows or Postdoctoral Students\nTherapists\nEmeritus\nYoung Research Scientists\nBusiness Delegates\nMedical Students\nDevice Manufacturing Companies\nPediatric Associations and Societies
URL:https://www.bcnd.ca/event/2024-world-pediatrics-conference-8/
LOCATION:Osaka\, Japan
ATTACH;FMTTYPE=image/png:https://www.bcnd.ca/wp2/wp-content/uploads/2025/03/World-pediatrics-conference-japan-banner-1200x800px-jpg.png
END:VEVENT
BEGIN:VEVENT
DTSTART;TZID=America/Vancouver:20241018T090000
DTEND;TZID=America/Vancouver:20241019T170000
DTSTAMP:20260423T014156
CREATED:20240118T080000Z
LAST-MODIFIED:20240118T080000Z
UID:10000555-1729242000-1729357200@www.bcnd.ca
SUMMARY:2024 World Endocrine\, Diabetes & Cardiovascular Conference (2024\,EDCC)
DESCRIPTION:Episirus Scientifica welcomes you to attend 2024World Endocrine\, Diabetes & Cardiovascular Conference (2024EDCC) to be held during October 18-19\, 2024\, in Osaka\, Japan around the theme “Bridging Science and Clinical Practice”. This international meet (2024EDCC) anticipates hundreds of participants including keynote speakers\, Oral presentations by renowned speakers and poster presenters besides delegates around the world. This conference perhaps a giant event that creates an ideal platform to share expertise addressing current advancements involved in Endocrine\, Diabetes & Cardiovascular Health. It will be a wonderful opportunity for all the delegates as it provides an international networking opportunity to collaborate with the world-class Endocrinology\, Obesity and Medical Associations. \n  \n2024 World Endocrine\, Diabetes & Cardiovascular Conference (2024EDCC) is a premiere educational event which is designed to advance knowledge and expertise in endocrine and obesity that rotate between continents and are organized in collaboration with national and international endocrinology and obesity societies and associations. This International Congress 2024EDCC is going to be held at Osaka\, Japan during October 18-19\, 2024.The conference is targeted to the international Endocrinology community as well as other healthcare professionals involved in multidisciplinary endocrine\, diabetic\, cardiovascular and metabolic challenges \nFocus Areas / Session Topics \n\n\nClinical Endocrinology\nMolecular Endocrinology\nEndocrine Oncology\, Endocrine Connections\nHypertension\nDiabetes\, Endocrine and Metabolism\nObesity\nCardiovascular Disorders\nNeuroendocrine\nPediatric Endocrine\nNutrition and Lifestyle\nThyroid Disorders\nReproductive endocrinology\nDiabetes\, Obesity\, Metabolism and Nutrition\nCalcium and Bone\nAdrenal and Cardiovascular Endocrinology\nEnvironmental Endocrinology\nClinical Endocrinology\nEndocrine related Cancer and Tumors\nNeuroendocrinology and NET (neuroendocrine tumor)\nReproductive and Development Endocrinology\nThyroid\nCardiovascular medicine\nPrecision Medicine\nTransgender Medicine and Research\nEndocrinology and Genetics\n\nTarget Audiences \n\nEndocrinologists\nPediatric endocrinologists\nNeuroendocrine Specialists\nReproductive endocrinologists\nPrimary care physicians\nThyroid\nAndrologist and Gynecologists\nDiabetologists\nCardiologists\nNutritionists and Metabolic Specialists\nOther health professionals\, such as nurses\, physician’s assistants\, and other clinicians who care for individuals with endocrine diseases
URL:https://www.bcnd.ca/event/2024-world-endocrine-diabetes-cardiovascular-conference-2024edcc/
LOCATION:Osaka\, Japan
ATTACH;FMTTYPE=image/jpeg:https://www.bcnd.ca/wp2/wp-content/uploads/2025/03/2024EDCC-LOGO.jpg
END:VEVENT
BEGIN:VEVENT
DTSTART;TZID=America/Vancouver:20241018T090000
DTEND;TZID=America/Vancouver:20241019T170000
DTSTAMP:20260423T014156
CREATED:20240118T080000Z
LAST-MODIFIED:20240118T080000Z
UID:10000556-1729242000-1729357200@www.bcnd.ca
SUMMARY:2024 World Critical Care and Anesthesiology Conference
DESCRIPTION:Episirus Scientifica welcomes you to attend  2024 World Critical Care and Anesthesiology Conference (2024 WCAC) to be held during October 18-19\, 2024 around the theme ‘Explore global health issues and initiatives related to critical care and anesthesia’. This international meet (2024WCAC) anticipates hundreds of participants including keynote speakers\, Oral presentations by renowned speakers and poster presenters besides delegates around the world. This conference is perhaps a giant event that creates an ideal platform to share expertise addressing current advancements involved in Critical Care and Anesthesiology. It will be a wonderful opportunity for all the delegates as it provides an international networking opportunity to collaborate with the world-class critical care\, Anesthesia\, trauma and Medical Associations. \n  \n2024 World Critical Care & Anesthesiology Conference (2024 WCAC) is a premiere educational event which is designed to advance knowledge and expertise in trauma and critical care that rotate between continents and are organized in collaboration with national and international Anesthesiologic\, Pulmonary\, Thoracic and Critical Care societies and associations. This International Congress 2024 World Critical Care & Anesthesiology Conference October 18-19\, 2024.  The conference is targeted to the international Critical Care Medicine community as well as other healthcare professionals involved in multidisciplinary critical care surgical challenges; For every community\, there continues to be a need for surgical and medical teams to evaluate and treat the severely injured patients. It is appropriate that this Critical Care and Anesthesiology Conference Congress take the action of leading a continuing education venue for the complex operative and critical care surgical challenges and become the epitome of such series. The 2024 World Critical Care & Anesthesiology Conference (2024 WCAC) will be organized around the theme ‘Scientific advancement and exploration in Critical Care and Anesthesiology’ \n  \nFew Topics which will be covered: \n \n\nCritical Care and Anesthetic Challenges\nAdvances in Critical Care Technology\nAnesthesia for high risk patients\nECMO\nCritical Care and Emergency Medicine\nTrauma and Anesthesiology\nTrauma Intensive Care\nInterventional Pulmonology\nObstetric Anaesthesia\nTransplant Anesthesia\nPerioperative & Ambulatory Anaesthesia\nPain and Regional Anesthesia\nThoracic Surgery and Cardiac Anesthesia\nPediatric Anesthesia and Pediatric Critical care\nNeuro Anesthesia and Neurocritical care\nICU Management and Practice\nPulmonary Hypertension\nCardiac\, Thoracic & Vascular\nRespiratory Care\nNeuroscience\nGlobal Health\, Education and Development\nResearch\, Safety\, Quality\, and Sustainability\nTechnology\, Pharmacology & Artificial Intelligence\n\n  \nTarget Audience: \n \nCritical care and trauma surgeons \nGeneral surgeons \nEmergency physicians \nAnesthesiologists \nPulmonologists \nTrauma coordinators \nSurgical residents \nThoracic surgeons and cardiologists \nTrauma and Critical Care Nurses \nPhysician assistants \nAllergist & immunologist \nIntensivists \nRespiratory care specialists \nInternists \nPhysicians \nAdvocates and researchers in public health and health promotion administrators \nTraining Institutes \nIndustry professionals \nResearchers \nFellows or Postdoctoral Students \nTherapists \nEmeritus \nYoung Research Scientists \nBusiness Delegates \nMedical Students \nDevice Manufacturing Companies \nAssociations and Societies
URL:https://www.bcnd.ca/event/2024-world-critical-care-and-anesthesiology-conference-10/
LOCATION:Osaka\, Japan
ATTACH;FMTTYPE=image/png:https://www.bcnd.ca/wp2/wp-content/uploads/2025/03/2024-WCAC-Japan-Logo.png
END:VEVENT
BEGIN:VEVENT
DTSTART;TZID=America/Vancouver:20241018T090000
DTEND;TZID=America/Vancouver:20241019T170000
DTSTAMP:20260423T014156
CREATED:20240109T080000Z
LAST-MODIFIED:20240109T080000Z
UID:10000551-1729242000-1729357200@www.bcnd.ca
SUMMARY:2024 World Pediatrics Conference
DESCRIPTION:Episirus Scientifica welcomes you to attend 2024 World Pediatrics Conference (2024WPC) to be held during October 18-19\, 2024 in Osaka\, Japan around the theme ‘Scientific advancement and exploration in Pediatrics and Neonatology’ accredited with CPD credits which enable the professionals from worldwide to exchange their views on a wide variety of topics affecting child care and those suffering from pediatric diseases around the world. Since Genetic variance\, developmental issues and Congenital defects are of a greater concern to pediatricians\, we will be exploring more into these fields. This international meet (2024WPC) anticipates hundreds of participants including keynote speakers\, Oral presentations by renowned speakers and poster presenters besides delegates around the world. This conference perhaps a giant event that creates an ideal platform to share expertise addressing current advancements involved in Pediatric and Neonatal care. It will be a wonderful opportunity for all the delegates as it provides an international networking opportunity to collaborate with the world-class Pediatric and Medical Associations.\n  \nFew Topics which will be covered: \n \n\nPediatric Biochemistry\nPediatric Epilepsy\nPediatric Genetics\nNeonatology and Pediatric Intensive Care\nPediatric Infectious Diseases\nPediatric Neuroradiology\nChild Nutrition\nPediatric Immunology\nPediatric Allergy and Dermatology\nPediatric Cardiology\nPediatric Psychology and Adolescent Medicine\nPediatric Neurology\nPediatric Hematology and Oncology\nPediatric Emergencies and many more\n\n  \nTarget Audience: \n \n\nPediatrician\nPediatirc Cardiologists\nPediatric Neurologists\nPediatric Researchers\nPediatric Scientists\nPediatric Nurses\nPediatric Dermatologists\nPediatric Faculty\nMedical Colleges\nPediatric Physicians\nTraining Institutes\nIndustry professionals\nResearchers\nFellows or Postdoctoral Students\nTherapists\nEmeritus\nYoung Research Scientists\nBusiness Delegates\nMedical Students\nDevice Manufacturing Companies\nPediatric Associations and Societies
URL:https://www.bcnd.ca/event/2024-world-pediatrics-conference-7/
LOCATION:Osaka\, Japan
ATTACH;FMTTYPE=image/png:https://www.bcnd.ca/wp2/wp-content/uploads/2025/03/2024WPC-Pediatrics-Japan-Conference-1.png
END:VEVENT
BEGIN:VEVENT
DTSTART;TZID=America/Vancouver:20241018T090000
DTEND;TZID=America/Vancouver:20241019T000000
DTSTAMP:20260423T014156
CREATED:20240109T080000Z
LAST-MODIFIED:20240109T080000Z
UID:10000553-1729242000-1729296000@www.bcnd.ca
SUMMARY:2024 World Critical Care and Anesthesiology Conference
DESCRIPTION:Episirus Scientifica welcomes you to attend  2024 World Critical Care and Anesthesiology Conference (2024 WCAC) to be held during October 18-19\, 2024 around the theme ‘Explore global health issues and initiatives related to critical care and anesthesia’. This international meet (2024WCAC) anticipates hundreds of participants including keynote speakers\, Oral presentations by renowned speakers and poster presenters besides delegates around the world. This conference is perhaps a giant event that creates an ideal platform to share expertise addressing current advancements involved in Critical Care and Anesthesiology. It will be a wonderful opportunity for all the delegates as it provides an international networking opportunity to collaborate with the world-class critical care\, Anesthesia\, trauma and Medical Associations. \n  \n2024 World Critical Care & Anesthesiology Conference (2024 WCAC) is a premiere educational event which is designed to advance knowledge and expertise in trauma and critical care that rotate between continents and are organized in collaboration with national and international Anesthesiologic\, Pulmonary\, Thoracic and Critical Care societies and associations. This International Congress 2024 World Critical Care & Anesthesiology Conference October 18-19\, 2024.  The conference is targeted to the international Critical Care Medicine community as well as other healthcare professionals involved in multidisciplinary critical care surgical challenges; For every community\, there continues to be a need for surgical and medical teams to evaluate and treat the severely injured patients. It is appropriate that this Critical Care and Anesthesiology Conference Congress take the action of leading a continuing education venue for the complex operative and critical care surgical challenges and become the epitome of such series. The 2024 World Critical Care & Anesthesiology Conference (2024 WCAC) will be organized around the theme ‘Scientific advancement and exploration in Critical Care and Anesthesiology’ \n  \nFew Topics which will be covered: \n \n\nCritical Care and Anesthetic Challenges\nAdvances in Critical Care Technology\nAnesthesia for high risk patients\nECMO\nCritical Care and Emergency Medicine\nTrauma and Anesthesiology\nTrauma Intensive Care\nInterventional Pulmonology\nObstetric Anaesthesia\nTransplant Anesthesia\nPerioperative & Ambulatory Anaesthesia\nPain and Regional Anesthesia\nThoracic Surgery and Cardiac Anesthesia\nPediatric Anesthesia and Pediatric Critical care\nNeuro Anesthesia and Neurocritical care\nICU Management and Practice\nPulmonary Hypertension\nCardiac\, Thoracic & Vascular\nRespiratory Care\nNeuroscience\nGlobal Health\, Education and Development\nResearch\, Safety\, Quality\, and Sustainability\nTechnology\, Pharmacology & Artificial Intelligence\n\n  \nTarget Audience: \n \nCritical care and trauma surgeons \nGeneral surgeons \nEmergency physicians \nAnesthesiologists \nPulmonologists \nTrauma coordinators \nSurgical residents \nThoracic surgeons and cardiologists \nTrauma and Critical Care Nurses \nPhysician assistants \nAllergist & immunologist \nIntensivists \nRespiratory care specialists \nInternists \nPhysicians \nAdvocates and researchers in public health and health promotion administrators \nTraining Institutes \nIndustry professionals \nResearchers \nFellows or Postdoctoral Students \nTherapists \nEmeritus \nYoung Research Scientists \nBusiness Delegates \nMedical Students \nDevice Manufacturing Companies \nAssociations and Societies
URL:https://www.bcnd.ca/event/2024-world-critical-care-and-anesthesiology-conference-9/
LOCATION:Osaka\, Japan
ATTACH;FMTTYPE=image/jpeg:https://www.bcnd.ca/wp2/wp-content/uploads/2025/03/2024WCAC-Baner-japan-critical-care-and-anesthesiology-conference-1.jpg
END:VEVENT
END:VCALENDAR