BEGIN:VCALENDAR
VERSION:2.0
PRODID:-//BCND - ECPv6.15.20//NONSGML v1.0//EN
CALSCALE:GREGORIAN
METHOD:PUBLISH
X-ORIGINAL-URL:https://www.bcnd.ca
X-WR-CALDESC:Events for BCND
REFRESH-INTERVAL;VALUE=DURATION:PT1H
X-Robots-Tag:noindex
X-PUBLISHED-TTL:PT1H
BEGIN:VTIMEZONE
TZID:America/Vancouver
BEGIN:DAYLIGHT
TZOFFSETFROM:-0800
TZOFFSETTO:-0700
TZNAME:PDT
DTSTART:20230312T100000
END:DAYLIGHT
BEGIN:STANDARD
TZOFFSETFROM:-0700
TZOFFSETTO:-0800
TZNAME:PST
DTSTART:20231105T090000
END:STANDARD
BEGIN:DAYLIGHT
TZOFFSETFROM:-0800
TZOFFSETTO:-0700
TZNAME:PDT
DTSTART:20240310T100000
END:DAYLIGHT
BEGIN:STANDARD
TZOFFSETFROM:-0700
TZOFFSETTO:-0800
TZNAME:PST
DTSTART:20241103T090000
END:STANDARD
BEGIN:DAYLIGHT
TZOFFSETFROM:-0800
TZOFFSETTO:-0700
TZNAME:PDT
DTSTART:20250309T100000
END:DAYLIGHT
BEGIN:STANDARD
TZOFFSETFROM:-0700
TZOFFSETTO:-0800
TZNAME:PST
DTSTART:20251102T090000
END:STANDARD
BEGIN:DAYLIGHT
TZOFFSETFROM:-0800
TZOFFSETTO:-0700
TZNAME:PDT
DTSTART:20260308T100000
END:DAYLIGHT
BEGIN:STANDARD
TZOFFSETFROM:-0700
TZOFFSETTO:-0800
TZNAME:PST
DTSTART:20261101T090000
END:STANDARD
END:VTIMEZONE
BEGIN:VEVENT
DTSTART;TZID=America/Vancouver:20250310T090000
DTEND;TZID=America/Vancouver:20250312T170000
DTSTAMP:20260423T014311
CREATED:20241015T070000Z
LAST-MODIFIED:20241015T070000Z
UID:10000622-1741597200-1741798800@www.bcnd.ca
SUMMARY:3rd International Summit on Biotechnology and Bioinformatics
DESCRIPTION:It is with great pleasure that I write to invite you to attend as a Speaker at our 3rd International Summit on Biotechnology and Bioinformatics\, which is going to be held on March 10-12\, 2025 in Valencia\, Spain.
URL:https://www.bcnd.ca/event/3rd-international-summit-on-biotechnology-and-bioinformatics/
LOCATION:Valencia\, Spain
ATTACH;FMTTYPE=image/jpeg:https://www.bcnd.ca/wp2/wp-content/uploads/2025/03/ISBB2025-Poster24-09-2024-1-scaled-1.jpg
END:VEVENT
BEGIN:VEVENT
DTSTART;VALUE=DATE:20240826
DTEND;VALUE=DATE:20240829
DTSTAMP:20260423T014311
CREATED:20231213T080000Z
LAST-MODIFIED:20231213T080000Z
UID:10000542-1724630400-1724889599@www.bcnd.ca
SUMMARY:2nd International Summit on Non-Renewable and Renewable Energy
DESCRIPTION:We are thrilled to extend a warm welcome to the 2nd International Summit on Non-Renewable and Renewable Energy\, scheduled during August 26 to 28\, 2024 in Valencia\, Spain. Building on the success of our inaugural summit\, this second edition promises to be even more inspiring and impactful.\nAs the world seeks sustainable energy solutions\, our ISNRE2024 summit aims to be at the forefront of shaping the future of non-renewable and renewable energy sectors. Distinguished researchers\, industry experts\, policymakers\, and energy enthusiasts will converge in Valencia to explore the latest trends\, challenges\, and innovations in the energy landscape.
URL:https://www.bcnd.ca/event/2nd-international-summit-on-non-renewable-and-renewable-energy/
LOCATION:Valencia\, Spain
ATTACH;FMTTYPE=image/png:https://www.bcnd.ca/wp2/wp-content/uploads/2025/03/ISNRE2024-Logo.png
END:VEVENT
BEGIN:VEVENT
DTSTART;VALUE=DATE:20240825
DTEND;VALUE=DATE:20240829
DTSTAMP:20260423T014311
CREATED:20240702T070000Z
LAST-MODIFIED:20240702T070000Z
UID:10000605-1724619600-1724878799@www.bcnd.ca
SUMMARY:2nd International Summit on Non-Renewable and Renewable Energy
DESCRIPTION:We are thrilled to extend a warm welcome to the 2nd International Summit on Non-Renewable and Renewable Energy\, scheduled during August 26 to 28\, 2024 in Valencia\, Spain. Building on the success of our inaugural summit\, this second edition promises to be even more inspiring and impactful.
URL:https://www.bcnd.ca/event/2nd-international-summit-on-non-renewable-and-renewable-energy-5/
LOCATION:Valencia\, Spain
END:VEVENT
END:VCALENDAR